BEGIN:VCALENDAR
VERSION:2.0
PRODID:-//Yarrawonga - ECPv5.3.2.1//NONSGML v1.0//EN
CALSCALE:GREGORIAN
METHOD:PUBLISH
X-WR-CALNAME:Yarrawonga
X-ORIGINAL-URL:https://bowls.yarragolf.com.au
X-WR-CALDESC:Events for Yarrawonga
BEGIN:VTIMEZONE
TZID:UTC
BEGIN:STANDARD
TZOFFSETFROM:+0000
TZOFFSETTO:+0000
TZNAME:UTC
DTSTART:20210101T000000
END:STANDARD
END:VTIMEZONE
BEGIN:VEVENT
DTSTART;TZID=UTC:20210202T100000
DTEND;TZID=UTC:20210202T100000
DTSTAMP:20210223T032528
CREATED:20201011T031722Z
LAST-MODIFIED:20201011T031722Z
UID:8438-1612260000-1612260000@bowls.yarragolf.com.au
SUMMARY:Midweek Pennant Round 10
DESCRIPTION:
URL:https://bowls.yarragolf.com.au/event/midweek-pennant-round-10-4/
CATEGORIES:Program 2020/2021
END:VEVENT
BEGIN:VEVENT
DTSTART;TZID=UTC:20210206T130000
DTEND;TZID=UTC:20210206T130000
DTSTAMP:20210223T032528
CREATED:20201011T031817Z
LAST-MODIFIED:20201011T031817Z
UID:8440-1612616400-1612616400@bowls.yarragolf.com.au
SUMMARY:Weekend Pennant Round 11
DESCRIPTION:
URL:https://bowls.yarragolf.com.au/event/weekend-pennant-round-11-4/
CATEGORIES:Program 2020/2021
END:VEVENT
BEGIN:VEVENT
DTSTART;TZID=UTC:20210209T100000
DTEND;TZID=UTC:20210209T100000
DTSTAMP:20210223T032528
CREATED:20201011T031922Z
LAST-MODIFIED:20201011T031922Z
UID:8442-1612864800-1612864800@bowls.yarragolf.com.au
SUMMARY:Midweek Pennant Round 11
DESCRIPTION:
URL:https://bowls.yarragolf.com.au/event/midweek-pennant-round-11-4/
CATEGORIES:Program 2020/2021
END:VEVENT
BEGIN:VEVENT
DTSTART;TZID=UTC:20210210T100000
DTEND;TZID=UTC:20210210T100000
DTSTAMP:20210223T032528
CREATED:20201101T053225Z
LAST-MODIFIED:20201221T002146Z
UID:8501-1612951200-1612951200@bowls.yarragolf.com.au
SUMMARY:2 Bowl Triples
DESCRIPTION:Entry: $30 per team. \nEntries close Monday prior to event. \nEntries to Ray Irvine 0427 441 548 or Garry Presnell 0408 143 057.
URL:https://bowls.yarragolf.com.au/event/mens-2-bowl-triples-25/
CATEGORIES:Program 2020/2021,Tournaments
END:VEVENT
BEGIN:VEVENT
DTSTART;TZID=UTC:20210213T130000
DTEND;TZID=UTC:20210213T130000
DTSTAMP:20210223T032528
CREATED:20201011T032013Z
LAST-MODIFIED:20201011T032013Z
UID:8444-1613221200-1613221200@bowls.yarragolf.com.au
SUMMARY:Weekend Pennant Round 12
DESCRIPTION:
URL:https://bowls.yarragolf.com.au/event/weekend-pennant-round-12-4/
CATEGORIES:Program 2020/2021
END:VEVENT
BEGIN:VEVENT
DTSTART;TZID=UTC:20210216T100000
DTEND;TZID=UTC:20210216T100000
DTSTAMP:20210223T032528
CREATED:20201011T032101Z
LAST-MODIFIED:20201011T032101Z
UID:8446-1613469600-1613469600@bowls.yarragolf.com.au
SUMMARY:Midweek Pennant Round 12
DESCRIPTION:
URL:https://bowls.yarragolf.com.au/event/midweek-pennant-round-12-4/
CATEGORIES:Program 2020/2021
END:VEVENT
BEGIN:VEVENT
DTSTART;TZID=UTC:20210220T130000
DTEND;TZID=UTC:20210220T130000
DTSTAMP:20210223T032528
CREATED:20201011T032150Z
LAST-MODIFIED:20201011T032150Z
UID:8448-1613826000-1613826000@bowls.yarragolf.com.au
SUMMARY:Weekend Pennant Round 13
DESCRIPTION:
URL:https://bowls.yarragolf.com.au/event/weekend-pennant-round-13-4/
CATEGORIES:Program 2020/2021
END:VEVENT
BEGIN:VEVENT
DTSTART;TZID=UTC:20210223T100000
DTEND;TZID=UTC:20210223T100000
DTSTAMP:20210223T032528
CREATED:20201011T032248Z
LAST-MODIFIED:20201011T032248Z
UID:8450-1614074400-1614074400@bowls.yarragolf.com.au
SUMMARY:Midweek Pennant Round 13
DESCRIPTION:
URL:https://bowls.yarragolf.com.au/event/midweek-pennant-round-13-4/
CATEGORIES:Program 2020/2021
END:VEVENT
BEGIN:VEVENT
DTSTART;TZID=UTC:20210227T130000
DTEND;TZID=UTC:20210227T130000
DTSTAMP:20210223T032528
CREATED:20201011T032338Z
LAST-MODIFIED:20201011T032338Z
UID:8452-1614430800-1614430800@bowls.yarragolf.com.au
SUMMARY:Weekend Pennant Round 14
DESCRIPTION:
URL:https://bowls.yarragolf.com.au/event/weekend-pennant-round-14-4/
CATEGORIES:Program 2020/2021
END:VEVENT
END:VCALENDAR