BEGIN:VCALENDAR
VERSION:2.0
PRODID:-//Yarrawonga - ECPv6.15.20//NONSGML v1.0//EN
CALSCALE:GREGORIAN
METHOD:PUBLISH
X-WR-CALNAME:Yarrawonga
X-ORIGINAL-URL:https://bowls.yarragolf.com.au
X-WR-CALDESC:Events for Yarrawonga
REFRESH-INTERVAL;VALUE=DURATION:PT1H
X-Robots-Tag:noindex
X-PUBLISHED-TTL:PT1H
BEGIN:VTIMEZONE
TZID:Australia/Sydney
BEGIN:STANDARD
TZOFFSETFROM:+1100
TZOFFSETTO:+1000
TZNAME:AEST
DTSTART:20170401T160000
END:STANDARD
BEGIN:DAYLIGHT
TZOFFSETFROM:+1000
TZOFFSETTO:+1100
TZNAME:AEDT
DTSTART:20170930T160000
END:DAYLIGHT
BEGIN:STANDARD
TZOFFSETFROM:+1100
TZOFFSETTO:+1000
TZNAME:AEST
DTSTART:20180331T160000
END:STANDARD
BEGIN:DAYLIGHT
TZOFFSETFROM:+1000
TZOFFSETTO:+1100
TZNAME:AEDT
DTSTART:20181006T160000
END:DAYLIGHT
BEGIN:STANDARD
TZOFFSETFROM:+1100
TZOFFSETTO:+1000
TZNAME:AEST
DTSTART:20190406T160000
END:STANDARD
BEGIN:DAYLIGHT
TZOFFSETFROM:+1000
TZOFFSETTO:+1100
TZNAME:AEDT
DTSTART:20191005T160000
END:DAYLIGHT
END:VTIMEZONE
BEGIN:VEVENT
DTSTART;TZID=Australia/Sydney:20180401T230000
DTEND;TZID=Australia/Sydney:20180401T230000
DTSTAMP:20260426T113150
CREATED:20170825T175822Z
LAST-MODIFIED:20170827T202122Z
UID:5026-1522623600-1522623600@bowls.yarragolf.com.au
SUMMARY:Open Social Bowls
DESCRIPTION:
URL:https://bowls.yarragolf.com.au/event/open-social-bowls-7/
CATEGORIES:Program 2017/2018,Social Bowls
END:VEVENT
BEGIN:VEVENT
DTSTART;TZID=Australia/Sydney:20180403T200000
DTEND;TZID=Australia/Sydney:20180403T200000
DTSTAMP:20260426T113150
CREATED:20170825T175921Z
LAST-MODIFIED:20170827T202112Z
UID:5028-1522785600-1522785600@bowls.yarragolf.com.au
SUMMARY:Open Social Bowls
DESCRIPTION:
URL:https://bowls.yarragolf.com.au/event/open-social-bowls-8/
CATEGORIES:Program 2017/2018,Social Bowls
END:VEVENT
BEGIN:VEVENT
DTSTART;TZID=Australia/Sydney:20180404T223000
DTEND;TZID=Australia/Sydney:20180404T223000
DTSTAMP:20260426T113150
CREATED:20170825T180014Z
LAST-MODIFIED:20170827T202059Z
UID:5030-1522881000-1522881000@bowls.yarragolf.com.au
SUMMARY:Men's Social Bowls
DESCRIPTION:
URL:https://bowls.yarragolf.com.au/event/mens-social-bowls-19/
CATEGORIES:Program 2017/2018,Social Bowls
END:VEVENT
BEGIN:VEVENT
DTSTART;TZID=Australia/Sydney:20180405T200000
DTEND;TZID=Australia/Sydney:20180405T200000
DTSTAMP:20260426T113150
CREATED:20170825T180103Z
LAST-MODIFIED:20170827T202050Z
UID:5032-1522958400-1522958400@bowls.yarragolf.com.au
SUMMARY:Ladies Social Bowls
DESCRIPTION:
URL:https://bowls.yarragolf.com.au/event/ladies-social-bowls-32/
CATEGORIES:Program 2017/2018,Social Bowls
END:VEVENT
BEGIN:VEVENT
DTSTART;TZID=Australia/Sydney:20180406T223000
DTEND;TZID=Australia/Sydney:20180406T223000
DTSTAMP:20260426T113150
CREATED:20170825T180210Z
LAST-MODIFIED:20170916T185206Z
UID:5034-1523053800-1523053800@bowls.yarragolf.com.au
SUMMARY:Open Canadian Pairs (2x4x2)
DESCRIPTION:
URL:https://bowls.yarragolf.com.au/event/open-canadian-pairs-2x4x2-36/
CATEGORIES:Program 2017/2018,Social Bowls
END:VEVENT
BEGIN:VEVENT
DTSTART;VALUE=DATE:20180407
DTEND;VALUE=DATE:20180409
DTSTAMP:20260426T113150
CREATED:20170825T193455Z
LAST-MODIFIED:20170825T232438Z
UID:5107-1523095200-1523181599@bowls.yarragolf.com.au
SUMMARY:Edinburgh Shield
DESCRIPTION:
URL:https://bowls.yarragolf.com.au/event/edinburgh-shield-3/
CATEGORIES:Program 2017/2018,Tournaments
END:VEVENT
BEGIN:VEVENT
DTSTART;VALUE=DATE:20180408
DTEND;VALUE=DATE:20180410
DTSTAMP:20260426T113150
CREATED:20170825T193605Z
LAST-MODIFIED:20170825T232347Z
UID:5109-1523181600-1523267999@bowls.yarragolf.com.au
SUMMARY:Edinburgh Shield
DESCRIPTION:
URL:https://bowls.yarragolf.com.au/event/edinburgh-shield-4/
CATEGORIES:Program 2017/2018,Tournaments
END:VEVENT
BEGIN:VEVENT
DTSTART;TZID=Australia/Sydney:20180410T223000
DTEND;TZID=Australia/Sydney:20180410T223000
DTSTAMP:20260426T113150
CREATED:20170825T180601Z
LAST-MODIFIED:20170827T202036Z
UID:5040-1523399400-1523399400@bowls.yarragolf.com.au
SUMMARY:Open Social Bowls
DESCRIPTION:
URL:https://bowls.yarragolf.com.au/event/open-social-bowls-9/
CATEGORIES:Program 2017/2018,Social Bowls
END:VEVENT
BEGIN:VEVENT
DTSTART;TZID=Australia/Sydney:20180411T223000
DTEND;TZID=Australia/Sydney:20180411T223000
DTSTAMP:20260426T113150
CREATED:20170825T180715Z
LAST-MODIFIED:20170827T202024Z
UID:5042-1523485800-1523485800@bowls.yarragolf.com.au
SUMMARY:Open Social Bowls
DESCRIPTION:
URL:https://bowls.yarragolf.com.au/event/open-social-bowls-10/
CATEGORIES:Program 2017/2018,Social Bowls
END:VEVENT
BEGIN:VEVENT
DTSTART;TZID=Australia/Sydney:20180412T223000
DTEND;TZID=Australia/Sydney:20180412T223000
DTSTAMP:20260426T113150
CREATED:20170825T180816Z
LAST-MODIFIED:20170827T202010Z
UID:5044-1523572200-1523572200@bowls.yarragolf.com.au
SUMMARY:Open Social Bowls
DESCRIPTION:
URL:https://bowls.yarragolf.com.au/event/open-social-bowls-11/
CATEGORIES:Program 2017/2018,Social Bowls
END:VEVENT
BEGIN:VEVENT
DTSTART;TZID=Australia/Sydney:20180413T223000
DTEND;TZID=Australia/Sydney:20180413T223000
DTSTAMP:20260426T113150
CREATED:20170825T180924Z
LAST-MODIFIED:20170916T185149Z
UID:5046-1523658600-1523658600@bowls.yarragolf.com.au
SUMMARY:Open Canadian Pairs (2x4x2)
DESCRIPTION:
URL:https://bowls.yarragolf.com.au/event/open-canadian-pairs-2x4x2-37/
CATEGORIES:Program 2017/2018,Social Bowls
END:VEVENT
BEGIN:VEVENT
DTSTART;TZID=Australia/Sydney:20180415T230000
DTEND;TZID=Australia/Sydney:20180415T230000
DTSTAMP:20260426T113150
CREATED:20170825T181127Z
LAST-MODIFIED:20170827T201958Z
UID:5048-1523833200-1523833200@bowls.yarragolf.com.au
SUMMARY:Open Social Bowls
DESCRIPTION:
URL:https://bowls.yarragolf.com.au/event/open-social-bowls-12/
CATEGORIES:Program 2017/2018,Social Bowls
END:VEVENT
BEGIN:VEVENT
DTSTART;TZID=Australia/Sydney:20180417T200000
DTEND;TZID=Australia/Sydney:20180417T100000
DTSTAMP:20260426T113150
CREATED:20170825T181240Z
LAST-MODIFIED:20180324T160039Z
UID:5050-1523995200-1523959200@bowls.yarragolf.com.au
SUMMARY:Belmont Visit
DESCRIPTION:
URL:https://bowls.yarragolf.com.au/event/open-social-bowls-13/
CATEGORIES:Program 2017/2018,Social Bowls
END:VEVENT
BEGIN:VEVENT
DTSTART;TZID=Australia/Sydney:20180418T193000
DTEND;TZID=Australia/Sydney:20180419T030000
DTSTAMP:20260426T113150
CREATED:20170726T155930Z
LAST-MODIFIED:20180128T164604Z
UID:4468-1524079800-1524106800@bowls.yarragolf.com.au
SUMMARY:Men's 2 Bowl Triples
DESCRIPTION:Played third Wednesday of every month from September to March.\nTime: 9.00am for 9.30 start.\nFormat: 2 Bowl Triples\, 4 games\, 12 live ends.\nPrize money: for Winners\, Runners up and best 1st 2nd 3rd and 4th game winners.\n                                  (can be reduced if full field not attained)\nRegister before game day by contacting K\, Kinnane on 0419313683 or P\, Lidgerwood on 0409759579\nDress: Bowls Australia approved bowls apparel.\nEntry cost $24 per team to be paid on game day.\nLunch available in club house for additional cost
URL:https://bowls.yarragolf.com.au/event/mens-2-bowl-triples-7/
CATEGORIES:Program 2017/2018,Tournaments
ATTACH;FMTTYPE=image/jpeg:https://bowls.yarragolf.com.au/wp-content/uploads/2018/01/Monthly-2-Bowl-Triples-Sponsor-4.jpg
END:VEVENT
BEGIN:VEVENT
DTSTART;TZID=Australia/Sydney:20180419T223000
DTEND;TZID=Australia/Sydney:20180419T223000
DTSTAMP:20260426T113150
CREATED:20170825T181333Z
LAST-MODIFIED:20170827T202406Z
UID:5052-1524177000-1524177000@bowls.yarragolf.com.au
SUMMARY:Open Social Bowls
DESCRIPTION:
URL:https://bowls.yarragolf.com.au/event/open-social-bowls-14/
CATEGORIES:Program 2017/2018,Social Bowls
END:VEVENT
BEGIN:VEVENT
DTSTART;TZID=Australia/Sydney:20180420T223000
DTEND;TZID=Australia/Sydney:20180420T223000
DTSTAMP:20260426T113150
CREATED:20170825T181435Z
LAST-MODIFIED:20170916T185127Z
UID:5054-1524263400-1524263400@bowls.yarragolf.com.au
SUMMARY:Open Canadian Pairs (2x4x2)
DESCRIPTION:
URL:https://bowls.yarragolf.com.au/event/open-canadian-pairs-2x4x2-38/
CATEGORIES:Program 2017/2018,Social Bowls
END:VEVENT
BEGIN:VEVENT
DTSTART;TZID=Australia/Sydney:20180422T230000
DTEND;TZID=Australia/Sydney:20180422T230000
DTSTAMP:20260426T113150
CREATED:20170825T181537Z
LAST-MODIFIED:20170827T202355Z
UID:5056-1524438000-1524438000@bowls.yarragolf.com.au
SUMMARY:Open Social Bowls
DESCRIPTION:
URL:https://bowls.yarragolf.com.au/event/open-social-bowls-15/
CATEGORIES:Program 2017/2018,Social Bowls
END:VEVENT
BEGIN:VEVENT
DTSTART;TZID=Australia/Sydney:20180424T223000
DTEND;TZID=Australia/Sydney:20180424T223000
DTSTAMP:20260426T113150
CREATED:20170825T181657Z
LAST-MODIFIED:20170827T202337Z
UID:5058-1524609000-1524609000@bowls.yarragolf.com.au
SUMMARY:Open Social Bowls
DESCRIPTION:
URL:https://bowls.yarragolf.com.au/event/open-social-bowls-16/
CATEGORIES:Program 2017/2018,Social Bowls
END:VEVENT
BEGIN:VEVENT
DTSTART;TZID=Australia/Sydney:20180425T223000
DTEND;TZID=Australia/Sydney:20180425T223000
DTSTAMP:20260426T113150
CREATED:20170825T181808Z
LAST-MODIFIED:20170827T202326Z
UID:5060-1524695400-1524695400@bowls.yarragolf.com.au
SUMMARY:Open Social Bowls
DESCRIPTION:
URL:https://bowls.yarragolf.com.au/event/open-social-bowls-17/
CATEGORIES:Program 2017/2018,Social Bowls
END:VEVENT
BEGIN:VEVENT
DTSTART;TZID=Australia/Sydney:20180426T223000
DTEND;TZID=Australia/Sydney:20180426T100000
DTSTAMP:20260426T113150
CREATED:20170825T181908Z
LAST-MODIFIED:20170827T202316Z
UID:5062-1524781800-1524736800@bowls.yarragolf.com.au
SUMMARY:Open Social Bowls
DESCRIPTION:
URL:https://bowls.yarragolf.com.au/event/open-social-bowls-18/
CATEGORIES:Program 2017/2018,Social Bowls
END:VEVENT
BEGIN:VEVENT
DTSTART;TZID=Australia/Sydney:20180427T223000
DTEND;TZID=Australia/Sydney:20180427T223000
DTSTAMP:20260426T113150
CREATED:20170825T182010Z
LAST-MODIFIED:20170916T185111Z
UID:5064-1524868200-1524868200@bowls.yarragolf.com.au
SUMMARY:Open Canadian Pairs (2x4x2)
DESCRIPTION:
URL:https://bowls.yarragolf.com.au/event/open-canadian-pairs-2x4x2-39/
CATEGORIES:Program 2017/2018,Social Bowls
END:VEVENT
BEGIN:VEVENT
DTSTART;TZID=Australia/Sydney:20180428T223000
DTEND;TZID=Australia/Sydney:20180428T100000
DTSTAMP:20260426T113150
CREATED:20180308T181227Z
LAST-MODIFIED:20180308T181227Z
UID:5877-1524954600-1524909600@bowls.yarragolf.com.au
SUMMARY:Presentation Day
DESCRIPTION:Format:  A game of bowls followed by afternoon tea and presentations.
URL:https://bowls.yarragolf.com.au/event/presentation-day/
END:VEVENT
BEGIN:VEVENT
DTSTART;TZID=Australia/Sydney:20180429T230000
DTEND;TZID=Australia/Sydney:20180429T230000
DTSTAMP:20260426T113150
CREATED:20170825T182119Z
LAST-MODIFIED:20170827T202305Z
UID:5066-1525042800-1525042800@bowls.yarragolf.com.au
SUMMARY:Open Social Bowls
DESCRIPTION:
URL:https://bowls.yarragolf.com.au/event/open-social-bowls-19/
CATEGORIES:Program 2017/2018,Social Bowls
END:VEVENT
END:VCALENDAR