BEGIN:VCALENDAR
VERSION:2.0
PRODID:-//Yarrawonga - ECPv6.15.20//NONSGML v1.0//EN
CALSCALE:GREGORIAN
METHOD:PUBLISH
X-ORIGINAL-URL:https://bowls.yarragolf.com.au
X-WR-CALDESC:Events for Yarrawonga
REFRESH-INTERVAL;VALUE=DURATION:PT1H
X-Robots-Tag:noindex
X-PUBLISHED-TTL:PT1H
BEGIN:VTIMEZONE
TZID:Australia/Sydney
BEGIN:STANDARD
TZOFFSETFROM:+1100
TZOFFSETTO:+1000
TZNAME:AEST
DTSTART:20170401T160000
END:STANDARD
BEGIN:DAYLIGHT
TZOFFSETFROM:+1000
TZOFFSETTO:+1100
TZNAME:AEDT
DTSTART:20170930T160000
END:DAYLIGHT
BEGIN:STANDARD
TZOFFSETFROM:+1100
TZOFFSETTO:+1000
TZNAME:AEST
DTSTART:20180331T160000
END:STANDARD
BEGIN:DAYLIGHT
TZOFFSETFROM:+1000
TZOFFSETTO:+1100
TZNAME:AEDT
DTSTART:20181006T160000
END:DAYLIGHT
BEGIN:STANDARD
TZOFFSETFROM:+1100
TZOFFSETTO:+1000
TZNAME:AEST
DTSTART:20190406T160000
END:STANDARD
BEGIN:DAYLIGHT
TZOFFSETFROM:+1000
TZOFFSETTO:+1100
TZNAME:AEDT
DTSTART:20191005T160000
END:DAYLIGHT
END:VTIMEZONE
BEGIN:VEVENT
DTSTART;TZID=Australia/Sydney:20180801T223000
DTEND;TZID=Australia/Sydney:20180801T223000
DTSTAMP:20260426T054258
CREATED:20180704T155311Z
LAST-MODIFIED:20180704T234049Z
UID:6111-1533162600-1533162600@bowls.yarragolf.com.au
SUMMARY:Open 3 Bowl Pairs
DESCRIPTION:Time: 12:00 for 12:30 start. \nFormat: Draw for partners. \nRegister by 11:00 on day. \nDress: Casual. \nEntry cost: $7.00.
URL:https://bowls.yarragolf.com.au/event/open-3-bowl-pairs-11/
CATEGORIES:Program 2017/2018,Social Bowls
ATTACH;FMTTYPE=image/jpeg:https://bowls.yarragolf.com.au/wp-content/uploads/2018/06/Open-3-Bowl-Pairs-Social-Bowls.jpg
END:VEVENT
BEGIN:VEVENT
DTSTART;TZID=Australia/Sydney:20180805T223000
DTEND;TZID=Australia/Sydney:20180805T223000
DTSTAMP:20260426T054258
CREATED:20180704T160210Z
LAST-MODIFIED:20180704T232854Z
UID:6119-1533508200-1533508200@bowls.yarragolf.com.au
SUMMARY:Open Canadian Pairs (2x4x2)
DESCRIPTION:Time: 12:00 for 12:30 start. \nFormat: Draw for partners\, \nRegister by 11:00 on day. \nDress: Casual. \nEntry cost: $7.00.
URL:https://bowls.yarragolf.com.au/event/open-canadian-pairs-2x4x2-47/
CATEGORIES:Program 2017/2018,Social Bowls
END:VEVENT
BEGIN:VEVENT
DTSTART;TZID=Australia/Sydney:20180808T223000
DTEND;TZID=Australia/Sydney:20180808T223000
DTSTAMP:20260426T054258
CREATED:20180704T155419Z
LAST-MODIFIED:20180704T234007Z
UID:6113-1533767400-1533767400@bowls.yarragolf.com.au
SUMMARY:Open 3 Bowl Pairs
DESCRIPTION:Time: 12:00 for 12:30 start. \nFormat: Draw for partners. \nRegister by 11:00 on day. \nDress: Casual. \nEntry cost: $7.00.
URL:https://bowls.yarragolf.com.au/event/open-3-bowl-pairs-12/
CATEGORIES:Program 2017/2018,Social Bowls
ATTACH;FMTTYPE=image/jpeg:https://bowls.yarragolf.com.au/wp-content/uploads/2018/06/Open-3-Bowl-Pairs-Social-Bowls.jpg
END:VEVENT
BEGIN:VEVENT
DTSTART;TZID=Australia/Sydney:20180812T223000
DTEND;TZID=Australia/Sydney:20180812T223000
DTSTAMP:20260426T054258
CREATED:20180704T160402Z
LAST-MODIFIED:20180704T233241Z
UID:6122-1534113000-1534113000@bowls.yarragolf.com.au
SUMMARY:Open Canadian Pairs (2x4x2)
DESCRIPTION:Time: 12:00 for 12:30 start. \nFormat: Draw for partners. \nRegister by 11:00 on day. \nDress: Casual. \nEntry cost: $7.00.
URL:https://bowls.yarragolf.com.au/event/open-canadian-pairs-2x4x2-48/
CATEGORIES:Program 2017/2018,Social Bowls
END:VEVENT
BEGIN:VEVENT
DTSTART;TZID=Australia/Sydney:20180815T223000
DTEND;TZID=Australia/Sydney:20180815T223000
DTSTAMP:20260426T054258
CREATED:20180704T155516Z
LAST-MODIFIED:20180704T233925Z
UID:6115-1534372200-1534372200@bowls.yarragolf.com.au
SUMMARY:Open 3 Bowl Pairs
DESCRIPTION:Time: 12:00 for 12:30 start. \nFormat: Draw for partners. \nRegister by 11:00 on day. \nDress: Casual. \nEntry cost: $7.00.
URL:https://bowls.yarragolf.com.au/event/open-3-bowl-pairs-13/
CATEGORIES:Program 2017/2018,Social Bowls
ATTACH;FMTTYPE=image/jpeg:https://bowls.yarragolf.com.au/wp-content/uploads/2018/06/Open-3-Bowl-Pairs-Social-Bowls.jpg
END:VEVENT
BEGIN:VEVENT
DTSTART;TZID=Australia/Sydney:20180819T223000
DTEND;TZID=Australia/Sydney:20180819T223000
DTSTAMP:20260426T054258
CREATED:20180704T160510Z
LAST-MODIFIED:20180704T233557Z
UID:6124-1534717800-1534717800@bowls.yarragolf.com.au
SUMMARY:Open Canadian Pairs (2x4x2)
DESCRIPTION:Time: 12:00 for 12:30 start. \nFormat: Draw for partners. \nRegister by 11:00 on day. \nDress: Casual. \nEntry cost: $7.00.
URL:https://bowls.yarragolf.com.au/event/open-canadian-pairs-2x4x2-49/
CATEGORIES:Program 2017/2018,Social Bowls
END:VEVENT
BEGIN:VEVENT
DTSTART;TZID=Australia/Sydney:20180822T223000
DTEND;TZID=Australia/Sydney:20180822T223000
DTSTAMP:20260426T054258
CREATED:20180704T155622Z
LAST-MODIFIED:20180704T233838Z
UID:6117-1534977000-1534977000@bowls.yarragolf.com.au
SUMMARY:Open 3 Bowl Pairs
DESCRIPTION:Time: 12:00 for 12:30 start. \nFormat: Draw for partners. \nRegister by 11:00 on day\, \nDress: Casual. \nEntry cost: $7.00.
URL:https://bowls.yarragolf.com.au/event/open-3-bowl-pairs-14/
CATEGORIES:Program 2017/2018,Social Bowls
ATTACH;FMTTYPE=image/jpeg:https://bowls.yarragolf.com.au/wp-content/uploads/2018/06/Open-3-Bowl-Pairs-Social-Bowls.jpg
END:VEVENT
BEGIN:VEVENT
DTSTART;TZID=Australia/Sydney:20180826T210000
DTEND;TZID=Australia/Sydney:20180826T210000
DTSTAMP:20260426T054258
CREATED:20180702T174816Z
LAST-MODIFIED:20180826T161404Z
UID:6090-1535317200-1535317200@bowls.yarragolf.com.au
SUMMARY:Opening Day 2018/2019
DESCRIPTION:
URL:https://bowls.yarragolf.com.au/event/opening-day-2018-19/
CATEGORIES:Functions,Program 2018/2019,Social Bowls
END:VEVENT
END:VCALENDAR