BEGIN:VCALENDAR
VERSION:2.0
PRODID:-//Yarrawonga - ECPv6.15.20//NONSGML v1.0//EN
CALSCALE:GREGORIAN
METHOD:PUBLISH
X-ORIGINAL-URL:https://bowls.yarragolf.com.au
X-WR-CALDESC:Events for Yarrawonga
REFRESH-INTERVAL;VALUE=DURATION:PT1H
X-Robots-Tag:noindex
X-PUBLISHED-TTL:PT1H
BEGIN:VTIMEZONE
TZID:Australia/Sydney
BEGIN:STANDARD
TZOFFSETFROM:+1100
TZOFFSETTO:+1000
TZNAME:AEST
DTSTART:20170401T160000
END:STANDARD
BEGIN:DAYLIGHT
TZOFFSETFROM:+1000
TZOFFSETTO:+1100
TZNAME:AEDT
DTSTART:20170930T160000
END:DAYLIGHT
BEGIN:STANDARD
TZOFFSETFROM:+1100
TZOFFSETTO:+1000
TZNAME:AEST
DTSTART:20180331T160000
END:STANDARD
BEGIN:DAYLIGHT
TZOFFSETFROM:+1000
TZOFFSETTO:+1100
TZNAME:AEDT
DTSTART:20181006T160000
END:DAYLIGHT
BEGIN:STANDARD
TZOFFSETFROM:+1100
TZOFFSETTO:+1000
TZNAME:AEST
DTSTART:20190406T160000
END:STANDARD
BEGIN:DAYLIGHT
TZOFFSETFROM:+1000
TZOFFSETTO:+1100
TZNAME:AEDT
DTSTART:20191005T160000
END:DAYLIGHT
END:VTIMEZONE
BEGIN:VEVENT
DTSTART;VALUE=DATE:20180901
DTEND;VALUE=DATE:20180904
DTSTAMP:20260426T042129
CREATED:20180614T182315Z
LAST-MODIFIED:20180621T201351Z
UID:6062-1535796000-1535968799@bowls.yarragolf.com.au
SUMMARY:Joy Johnson Memorial Classic Tournament
DESCRIPTION:Format: Ladies 2 Bowl Triples. \nPrize Money: $10\,000. \nEntry Fee: $180 per team. \nEnquiries: Anne Miles 0427 732 258. \n 
URL:https://bowls.yarragolf.com.au/event/joy-johnson-memorial-classic-tournament/
CATEGORIES:Program 2018/2019,Tournaments
ATTACH;FMTTYPE=image/jpeg:https://bowls.yarragolf.com.au/wp-content/uploads/2014/09/gallery2.jpg
END:VEVENT
BEGIN:VEVENT
DTSTART;TZID=Australia/Sydney:20180904T200000
DTEND;TZID=Australia/Sydney:20180904T100000
DTSTAMP:20260426T042129
CREATED:20180824T175651Z
LAST-MODIFIED:20180824T175651Z
UID:6220-1536091200-1536055200@bowls.yarragolf.com.au
SUMMARY:Ladies Social Bowls
DESCRIPTION:
URL:https://bowls.yarragolf.com.au/event/ladies-social-bowls-9/
CATEGORIES:Program 2018/2019,Social Bowls
END:VEVENT
BEGIN:VEVENT
DTSTART;TZID=Australia/Sydney:20180905T223000
DTEND;TZID=Australia/Sydney:20180905T100000
DTSTAMP:20260426T042129
CREATED:20180824T175758Z
LAST-MODIFIED:20180824T175758Z
UID:6222-1536186600-1536141600@bowls.yarragolf.com.au
SUMMARY:Social Bowls
DESCRIPTION:
URL:https://bowls.yarragolf.com.au/event/social-bowls/
CATEGORIES:Program 2018/2019,Social Bowls
END:VEVENT
BEGIN:VEVENT
DTSTART;TZID=Australia/Sydney:20180906T200000
DTEND;TZID=Australia/Sydney:20180906T200000
DTSTAMP:20260426T042129
CREATED:20180824T175943Z
LAST-MODIFIED:20180906T001155Z
UID:6224-1536264000-1536264000@bowls.yarragolf.com.au
SUMMARY:Ladies 100 Up Rounds 1 & 2
DESCRIPTION:Entries close Wednesday 5th September at 3:00 pm. \nEntry: $8.00. \nDress: Club uniform.
URL:https://bowls.yarragolf.com.au/event/ladies-100-up-rounds-1-2/
CATEGORIES:Club Events,Program 2018/2019
END:VEVENT
BEGIN:VEVENT
DTSTART;TZID=Australia/Sydney:20180909T200000
DTEND;TZID=Australia/Sydney:20180909T200000
DTSTAMP:20260426T042129
CREATED:20180824T180054Z
LAST-MODIFIED:20180906T000948Z
UID:6226-1536523200-1536523200@bowls.yarragolf.com.au
SUMMARY:Men's Pairs Championship
DESCRIPTION:Entries close 7th September at 3:00 pm. \nEntry: $8.00. \nDress: Club uniform.
URL:https://bowls.yarragolf.com.au/event/mens-pairs-championship/
CATEGORIES:Club Events,Program 2018/2019
END:VEVENT
BEGIN:VEVENT
DTSTART;TZID=Australia/Sydney:20180911T200000
DTEND;TZID=Australia/Sydney:20180911T100000
DTSTAMP:20260426T042129
CREATED:20180824T180148Z
LAST-MODIFIED:20180828T193346Z
UID:6228-1536696000-1536660000@bowls.yarragolf.com.au
SUMMARY:Ladies Social Bowls
DESCRIPTION:
URL:https://bowls.yarragolf.com.au/event/ladies-social-bowls-13/
CATEGORIES:Program 2018/2019,Social Bowls
END:VEVENT
BEGIN:VEVENT
DTSTART;TZID=Australia/Sydney:20180912T193000
DTEND;TZID=Australia/Sydney:20180912T193000
DTSTAMP:20260426T042129
CREATED:20180824T180323Z
LAST-MODIFIED:20180910T000712Z
UID:6230-1536780600-1536780600@bowls.yarragolf.com.au
SUMMARY:Men's 2 Bowl Triples
DESCRIPTION:Sponsored by Elders Rural Supplies Yarrawonga.
URL:https://bowls.yarragolf.com.au/event/mens-2-bowl-triples-5/
CATEGORIES:Program 2018/2019,Tournaments
ATTACH;FMTTYPE=image/jpeg:https://bowls.yarragolf.com.au/wp-content/uploads/2018/01/Monthly-2-Bowl-Triples-Sponsor-9.jpg
END:VEVENT
BEGIN:VEVENT
DTSTART;TZID=Australia/Sydney:20180912T200000
DTEND;TZID=Australia/Sydney:20180912T100000
DTSTAMP:20260426T042129
CREATED:20180824T180732Z
LAST-MODIFIED:20180824T180732Z
UID:6232-1536782400-1536746400@bowls.yarragolf.com.au
SUMMARY:O&M Ladies Opening Day
DESCRIPTION:Venue: Corowa Civic BC. \nRefer noticeboard entry form.
URL:https://bowls.yarragolf.com.au/event/om-ladies-opening-day/
CATEGORIES:Program 2018/2019
END:VEVENT
BEGIN:VEVENT
DTSTART;TZID=Australia/Sydney:20180913T200000
DTEND;TZID=Australia/Sydney:20180913T100000
DTSTAMP:20260426T042129
CREATED:20180824T180823Z
LAST-MODIFIED:20180824T180823Z
UID:6234-1536868800-1536832800@bowls.yarragolf.com.au
SUMMARY:Social Bowls
DESCRIPTION:
URL:https://bowls.yarragolf.com.au/event/social-bowls-2/
CATEGORIES:Program 2018/2019,Social Bowls
END:VEVENT
BEGIN:VEVENT
DTSTART;TZID=Australia/Sydney:20180915T230000
DTEND;TZID=Australia/Sydney:20180915T100000
DTSTAMP:20260426T042129
CREATED:20180824T180958Z
LAST-MODIFIED:20180825T232417Z
UID:6236-1537052400-1537005600@bowls.yarragolf.com.au
SUMMARY:Weekend Pennant Practice Match
DESCRIPTION:Refer noticeboard.
URL:https://bowls.yarragolf.com.au/event/weekend-pennant-practice-match/
CATEGORIES:Program 2018/2019
END:VEVENT
BEGIN:VEVENT
DTSTART;TZID=Australia/Sydney:20180916T223000
DTEND;TZID=Australia/Sydney:20180916T100000
DTSTAMP:20260426T042129
CREATED:20180913T004122Z
LAST-MODIFIED:20180913T004122Z
UID:6501-1537137000-1537092000@bowls.yarragolf.com.au
SUMMARY:Open Canadian Pairs (2x4x2)
DESCRIPTION:Entry: $8.00. \nDress: Casual.
URL:https://bowls.yarragolf.com.au/event/open-canadian-pairs-2x4x2-50/
CATEGORIES:Program 2018/2019,Social Bowls
END:VEVENT
BEGIN:VEVENT
DTSTART;TZID=Australia/Sydney:20180918T200000
DTEND;TZID=Australia/Sydney:20180918T100000
DTSTAMP:20260426T042129
CREATED:20180824T181056Z
LAST-MODIFIED:20180824T181056Z
UID:6238-1537300800-1537264800@bowls.yarragolf.com.au
SUMMARY:Ladies Social Bowls
DESCRIPTION:
URL:https://bowls.yarragolf.com.au/event/ladies-social-bowls-17/
CATEGORIES:Program 2018/2019,Social Bowls
END:VEVENT
BEGIN:VEVENT
DTSTART;TZID=Australia/Sydney:20180919T223000
DTEND;TZID=Australia/Sydney:20180919T100000
DTSTAMP:20260426T042129
CREATED:20180916T010702Z
LAST-MODIFIED:20180916T010702Z
UID:6519-1537396200-1537351200@bowls.yarragolf.com.au
SUMMARY:Men's 3 Bowl Pairs
DESCRIPTION:Entry: $8.00. \nDress: Casual.
URL:https://bowls.yarragolf.com.au/event/mens-3-bowl-pairs/
CATEGORIES:Program 2018/2019,Social Bowls
END:VEVENT
BEGIN:VEVENT
DTSTART;TZID=Australia/Sydney:20180920T200000
DTEND;TZID=Australia/Sydney:20180920T200000
DTSTAMP:20260426T042129
CREATED:20180824T181200Z
LAST-MODIFIED:20180824T203251Z
UID:6240-1537473600-1537473600@bowls.yarragolf.com.au
SUMMARY:Ladies 100 Up Final
DESCRIPTION:Dress: Club uniform.
URL:https://bowls.yarragolf.com.au/event/ladies-100-up-final/
CATEGORIES:Club Events,Program 2018/2019
END:VEVENT
BEGIN:VEVENT
DTSTART;TZID=Australia/Sydney:20180920T200000
DTEND;TZID=Australia/Sydney:20180920T100000
DTSTAMP:20260426T042129
CREATED:20180824T181258Z
LAST-MODIFIED:20180824T181258Z
UID:6242-1537473600-1537437600@bowls.yarragolf.com.au
SUMMARY:Social Bowls
DESCRIPTION:
URL:https://bowls.yarragolf.com.au/event/social-bowls-3/
CATEGORIES:Program 2018/2019,Social Bowls
END:VEVENT
BEGIN:VEVENT
DTSTART;TZID=Australia/Sydney:20180922T230000
DTEND;TZID=Australia/Sydney:20180922T230000
DTSTAMP:20260426T042129
CREATED:20180824T181411Z
LAST-MODIFIED:20180916T011406Z
UID:6244-1537657200-1537657200@bowls.yarragolf.com.au
SUMMARY:Weekend Pennant Practice Match
DESCRIPTION:Refer noticeboard. \nBus leaving YMGCR for Wangaratta at 11:15 am.
URL:https://bowls.yarragolf.com.au/event/weekend-pennant-practice-match-2/
CATEGORIES:Program 2018/2019
END:VEVENT
BEGIN:VEVENT
DTSTART;TZID=Australia/Sydney:20180923T193000
DTEND;TZID=Australia/Sydney:20180923T193000
DTSTAMP:20260426T042129
CREATED:20180828T180818Z
LAST-MODIFIED:20180914T232142Z
UID:6364-1537731000-1537731000@bowls.yarragolf.com.au
SUMMARY:BV Men's & Ladies Fours
DESCRIPTION:Entries close Thursday 20th September. \nVenue: Wodonga BC. \nSection Play. \nPost Section Play 30th September.
URL:https://bowls.yarragolf.com.au/event/bv-mens-ladies-fours/
CATEGORIES:Ovens & Murray State Events,Program 2018/2019
END:VEVENT
BEGIN:VEVENT
DTSTART;TZID=Australia/Sydney:20180923T223000
DTEND;TZID=Australia/Sydney:20180923T100000
DTSTAMP:20260426T042129
CREATED:20180916T010138Z
LAST-MODIFIED:20180916T010138Z
UID:6517-1537741800-1537696800@bowls.yarragolf.com.au
SUMMARY:Open Canadian Pairs (2x4x2)
DESCRIPTION:Entry: $8.00. \nDress: Casual.
URL:https://bowls.yarragolf.com.au/event/open-canadian-pairs-2x4x2-51/
CATEGORIES:Program 2018/2019,Social Bowls
END:VEVENT
BEGIN:VEVENT
DTSTART;TZID=Australia/Sydney:20180925T200000
DTEND;TZID=Australia/Sydney:20180925T200000
DTSTAMP:20260426T042129
CREATED:20180824T181552Z
LAST-MODIFIED:20180906T000701Z
UID:6246-1537905600-1537905600@bowls.yarragolf.com.au
SUMMARY:Ladies 21 Up Rounds 1&2
DESCRIPTION:Entries close Sunday 23rd September at 11:00 am. \nEntry: $8.00. \nDress: Club uniform.
URL:https://bowls.yarragolf.com.au/event/ladies-21-up-rounds-12-2/
CATEGORIES:Club Events,Program 2018/2019
END:VEVENT
BEGIN:VEVENT
DTSTART;TZID=Australia/Sydney:20180926T223000
DTEND;TZID=Australia/Sydney:20180926T100000
DTSTAMP:20260426T042129
CREATED:20180824T181707Z
LAST-MODIFIED:20180824T181707Z
UID:6248-1538001000-1537956000@bowls.yarragolf.com.au
SUMMARY:Social Bowls
DESCRIPTION:
URL:https://bowls.yarragolf.com.au/event/social-bowls-4/
CATEGORIES:Program 2018/2019,Social Bowls
END:VEVENT
BEGIN:VEVENT
DTSTART;TZID=Australia/Sydney:20180927T193000
DTEND;TZID=Australia/Sydney:20180927T193000
DTSTAMP:20260426T042129
CREATED:20180828T190909Z
LAST-MODIFIED:20180904T122551Z
UID:6367-1538076600-1538076600@bowls.yarragolf.com.au
SUMMARY:BV Men's & Ladies 60 & Over Singles
DESCRIPTION:Entries close 21st September. \nVenue: Wodonga BC. \nFurther Rounds 4th October.
URL:https://bowls.yarragolf.com.au/event/bv-mens-ladies-60-over-singles/
CATEGORIES:Ovens & Murray State Events,Program 2018/2019
END:VEVENT
BEGIN:VEVENT
DTSTART;TZID=Australia/Sydney:20180927T200000
DTEND;TZID=Australia/Sydney:20180927T200000
DTSTAMP:20260426T042129
CREATED:20180824T181834Z
LAST-MODIFIED:20180906T001543Z
UID:6250-1538078400-1538078400@bowls.yarragolf.com.au
SUMMARY:Midweek Pennant Practice Match
DESCRIPTION:Dress: Casual. \nRefer noticeboard.
URL:https://bowls.yarragolf.com.au/event/midweek-pennant-practice-match/
CATEGORIES:Program 2018/2019
END:VEVENT
BEGIN:VEVENT
DTSTART;TZID=Australia/Sydney:20180930T223000
DTEND;TZID=Australia/Sydney:20180930T100000
DTSTAMP:20260426T042129
CREATED:20180927T134729Z
LAST-MODIFIED:20180927T134729Z
UID:6553-1538346600-1538301600@bowls.yarragolf.com.au
SUMMARY:Open Canadian Pairs (2x4x2)
DESCRIPTION:Entry: $8.00. \nFormat: Draw for partners. \nDress: Casual.
URL:https://bowls.yarragolf.com.au/event/open-canadian-pairs-2x4x2-52/
CATEGORIES:Program 2018/2019,Social Bowls
END:VEVENT
END:VCALENDAR