BEGIN:VCALENDAR
VERSION:2.0
PRODID:-//Yarrawonga - ECPv6.15.20//NONSGML v1.0//EN
CALSCALE:GREGORIAN
METHOD:PUBLISH
X-ORIGINAL-URL:https://bowls.yarragolf.com.au
X-WR-CALDESC:Events for Yarrawonga
REFRESH-INTERVAL;VALUE=DURATION:PT1H
X-Robots-Tag:noindex
X-PUBLISHED-TTL:PT1H
BEGIN:VTIMEZONE
TZID:Australia/Sydney
BEGIN:STANDARD
TZOFFSETFROM:+1100
TZOFFSETTO:+1000
TZNAME:AEST
DTSTART:20170401T160000
END:STANDARD
BEGIN:DAYLIGHT
TZOFFSETFROM:+1000
TZOFFSETTO:+1100
TZNAME:AEDT
DTSTART:20170930T160000
END:DAYLIGHT
BEGIN:STANDARD
TZOFFSETFROM:+1100
TZOFFSETTO:+1000
TZNAME:AEST
DTSTART:20180331T160000
END:STANDARD
BEGIN:DAYLIGHT
TZOFFSETFROM:+1000
TZOFFSETTO:+1100
TZNAME:AEDT
DTSTART:20181006T160000
END:DAYLIGHT
BEGIN:STANDARD
TZOFFSETFROM:+1100
TZOFFSETTO:+1000
TZNAME:AEST
DTSTART:20190406T160000
END:STANDARD
BEGIN:DAYLIGHT
TZOFFSETFROM:+1000
TZOFFSETTO:+1100
TZNAME:AEDT
DTSTART:20191005T160000
END:DAYLIGHT
END:VTIMEZONE
BEGIN:VEVENT
DTSTART;TZID=Australia/Sydney:20181002T200000
DTEND;TZID=Australia/Sydney:20181002T200000
DTSTAMP:20260426T024333
CREATED:20180824T181953Z
LAST-MODIFIED:20180906T001416Z
UID:6252-1538510400-1538510400@bowls.yarragolf.com.au
SUMMARY:Midweek Pennant Practice Match
DESCRIPTION:Dress: Casual. \nRefer noticeboard.
URL:https://bowls.yarragolf.com.au/event/midweek-pennant-practice-match-2/
CATEGORIES:Program 2018/2019
END:VEVENT
BEGIN:VEVENT
DTSTART;TZID=Australia/Sydney:20181003T223000
DTEND;TZID=Australia/Sydney:20181003T223000
DTSTAMP:20260426T024333
CREATED:20180824T182057Z
LAST-MODIFIED:20181002T004219Z
UID:6254-1538605800-1538605800@bowls.yarragolf.com.au
SUMMARY:Men's 3 Bowl Pairs
DESCRIPTION:Entry: $8.00. \nFormat: Draw for partners. \nDress: Casual.
URL:https://bowls.yarragolf.com.au/event/social-bowls-5/
CATEGORIES:Program 2018/2019,Social Bowls
END:VEVENT
BEGIN:VEVENT
DTSTART;TZID=Australia/Sydney:20181004T200000
DTEND;TZID=Australia/Sydney:20181004T200000
DTSTAMP:20260426T024333
CREATED:20180824T182149Z
LAST-MODIFIED:20181002T004436Z
UID:6256-1538683200-1538683200@bowls.yarragolf.com.au
SUMMARY:Ladies Social Bowls
DESCRIPTION:Entry: $8.00. \nDress: Casual
URL:https://bowls.yarragolf.com.au/event/social-bowls-6/
CATEGORIES:Program 2018/2019,Social Bowls
END:VEVENT
BEGIN:VEVENT
DTSTART;TZID=Australia/Sydney:20181006T230000
DTEND;TZID=Australia/Sydney:20181006T100000
DTSTAMP:20260426T024333
CREATED:20180824T182255Z
LAST-MODIFIED:20180825T232233Z
UID:6258-1538866800-1538820000@bowls.yarragolf.com.au
SUMMARY:Weekend Pennant Practice Match
DESCRIPTION:Refer noticeboard.
URL:https://bowls.yarragolf.com.au/event/weekend-pennant-practice-match-3/
CATEGORIES:Program 2018/2019
END:VEVENT
BEGIN:VEVENT
DTSTART;TZID=Australia/Sydney:20181006T230000
DTEND;TZID=Australia/Sydney:20181006T100000
DTSTAMP:20260426T024333
CREATED:20180903T195154Z
LAST-MODIFIED:20180903T195154Z
UID:6411-1538866800-1538820000@bowls.yarragolf.com.au
SUMMARY:Weekend Pennant B5 Division Round 1
DESCRIPTION:
URL:https://bowls.yarragolf.com.au/event/weekend-pennant-b5-division-round-1/
CATEGORIES:Program 2018/2019
END:VEVENT
BEGIN:VEVENT
DTSTART;TZID=Australia/Sydney:20181007T203000
DTEND;TZID=Australia/Sydney:20181007T203000
DTSTAMP:20260426T024333
CREATED:20180828T191213Z
LAST-MODIFIED:20180911T135222Z
UID:6369-1538944200-1538944200@bowls.yarragolf.com.au
SUMMARY:BV Men's & Ladies Novice Singles
DESCRIPTION:Entries close 28th September. \nVenue: Rutherglen BC.
URL:https://bowls.yarragolf.com.au/event/bv-mens-ladies-novice-singles/
CATEGORIES:Ovens & Murray State Events,Program 2018/2019
END:VEVENT
BEGIN:VEVENT
DTSTART;TZID=Australia/Sydney:20181009T210000
DTEND;TZID=Australia/Sydney:20181009T110000
DTSTAMP:20260426T024333
CREATED:20180824T182818Z
LAST-MODIFIED:20180824T182818Z
UID:6262-1539118800-1539082800@bowls.yarragolf.com.au
SUMMARY:Midweek Pennant B Division Round 1
DESCRIPTION:
URL:https://bowls.yarragolf.com.au/event/midweek-pennant-b-division-round-1/
CATEGORIES:Program 2018/2019
END:VEVENT
BEGIN:VEVENT
DTSTART;TZID=Australia/Sydney:20181009T210000
DTEND;TZID=Australia/Sydney:20181009T210000
DTSTAMP:20260426T024333
CREATED:20180824T182906Z
LAST-MODIFIED:20181002T004748Z
UID:6264-1539118800-1539118800@bowls.yarragolf.com.au
SUMMARY:Ladies Social Bowls
DESCRIPTION:Entry: $8.00. \nDress: Casual.
URL:https://bowls.yarragolf.com.au/event/social-bowls-7/
CATEGORIES:Program 2018/2019,Social Bowls
END:VEVENT
BEGIN:VEVENT
DTSTART;TZID=Australia/Sydney:20181010T203000
DTEND;TZID=Australia/Sydney:20181010T203000
DTSTAMP:20260426T024333
CREATED:20180824T183016Z
LAST-MODIFIED:20181006T125438Z
UID:6266-1539203400-1539203400@bowls.yarragolf.com.au
SUMMARY:Men's 2 Bowl Triples
DESCRIPTION:Sponsored by R & H Purtle Pty Ltd Electrical Contractors
URL:https://bowls.yarragolf.com.au/event/mens-2-bowl-triples-9/
CATEGORIES:Program 2018/2019,Tournaments
ATTACH;FMTTYPE=image/jpeg:https://bowls.yarragolf.com.au/wp-content/uploads/2018/01/Monthly-2-Bowl-Triples-Sponsor-4.jpg
END:VEVENT
BEGIN:VEVENT
DTSTART;TZID=Australia/Sydney:20181011T203000
DTEND;TZID=Australia/Sydney:20181011T203000
DTSTAMP:20260426T024333
CREATED:20180824T182602Z
LAST-MODIFIED:20181006T130121Z
UID:6260-1539289800-1539289800@bowls.yarragolf.com.au
SUMMARY:BV Men's & Ladies 60 & Over Pairs
DESCRIPTION:Entries close 28th September. \nVenue: YMGCR and Club Mulwala BC. \nSection Play.
URL:https://bowls.yarragolf.com.au/event/bv-mens-ladies-60-over-pairs-at-ymgcr-3/
CATEGORIES:Ovens & Murray State Events,Program 2018/2019
END:VEVENT
BEGIN:VEVENT
DTSTART;TZID=Australia/Sydney:20181011T210000
DTEND;TZID=Australia/Sydney:20181011T110000
DTSTAMP:20260426T024333
CREATED:20180824T183252Z
LAST-MODIFIED:20180824T183252Z
UID:6270-1539291600-1539255600@bowls.yarragolf.com.au
SUMMARY:Social Bowls
DESCRIPTION:
URL:https://bowls.yarragolf.com.au/event/social-bowls-8/
CATEGORIES:Program 2018/2019,Social Bowls
END:VEVENT
BEGIN:VEVENT
DTSTART;TZID=Australia/Sydney:20181014T000000
DTEND;TZID=Australia/Sydney:20181014T000000
DTSTAMP:20260426T024333
CREATED:20180706T173815Z
LAST-MODIFIED:20180706T181835Z
UID:6147-1539475200-1539475200@bowls.yarragolf.com.au
SUMMARY:Weekend Pennant Round 1
DESCRIPTION:
URL:https://bowls.yarragolf.com.au/event/weekend-pennant-round-1-2/
CATEGORIES:Program 2018/2019
ATTACH;FMTTYPE=image/jpeg:https://bowls.yarragolf.com.au/wp-content/uploads/2018/03/A3-Premiership-winners-2017.18.jpg
END:VEVENT
BEGIN:VEVENT
DTSTART;TZID=Australia/Sydney:20181014T000000
DTEND;TZID=Australia/Sydney:20181013T110000
DTSTAMP:20260426T024333
CREATED:20180903T195409Z
LAST-MODIFIED:20180903T195409Z
UID:6414-1539475200-1539428400@bowls.yarragolf.com.au
SUMMARY:Weekend Pennant B5 Division Round 2
DESCRIPTION:
URL:https://bowls.yarragolf.com.au/event/weekend-pennant-b5-division-round-2/
CATEGORIES:Program 2018/2019
END:VEVENT
BEGIN:VEVENT
DTSTART;TZID=Australia/Sydney:20181014T210000
DTEND;TZID=Australia/Sydney:20181014T210000
DTSTAMP:20260426T024333
CREATED:20180824T183401Z
LAST-MODIFIED:20180824T202823Z
UID:6272-1539550800-1539550800@bowls.yarragolf.com.au
SUMMARY:Men's Pairs Final
DESCRIPTION:Dress: Club uniform.
URL:https://bowls.yarragolf.com.au/event/mens-pairs-final/
CATEGORIES:Club Events,Program 2018/2019
END:VEVENT
BEGIN:VEVENT
DTSTART;TZID=Australia/Sydney:20181014T233000
DTEND;TZID=Australia/Sydney:20181014T233000
DTSTAMP:20260426T024333
CREATED:20181006T223830Z
LAST-MODIFIED:20181006T223959Z
UID:6591-1539559800-1539559800@bowls.yarragolf.com.au
SUMMARY:Open Canadian Pairs (2x4x2)
DESCRIPTION:Entry: $8.00. \nFormat: Draw for partners. \nDress: Casual.
URL:https://bowls.yarragolf.com.au/event/open-canadian-pairs-2x4x2-53/
CATEGORIES:Program 2018/2019,Social Bowls
END:VEVENT
BEGIN:VEVENT
DTSTART;TZID=Australia/Sydney:20181016T210000
DTEND;TZID=Australia/Sydney:20181016T210000
DTSTAMP:20260426T024333
CREATED:20180706T173917Z
LAST-MODIFIED:20180706T182026Z
UID:6149-1539723600-1539723600@bowls.yarragolf.com.au
SUMMARY:Midweek Pennant Round 1
DESCRIPTION:
URL:https://bowls.yarragolf.com.au/event/midweek-pennant-round-1-2/
CATEGORIES:Program 2018/2019
ATTACH;FMTTYPE=image/jpeg:https://bowls.yarragolf.com.au/wp-content/uploads/2018/03/Open-1-Runners-up-2017.18.jpg
END:VEVENT
BEGIN:VEVENT
DTSTART;TZID=Australia/Sydney:20181016T210000
DTEND;TZID=Australia/Sydney:20181016T110000
DTSTAMP:20260426T024333
CREATED:20180824T183525Z
LAST-MODIFIED:20180824T183525Z
UID:6274-1539723600-1539687600@bowls.yarragolf.com.au
SUMMARY:Midweek Pennant B Division Round 2
DESCRIPTION:
URL:https://bowls.yarragolf.com.au/event/midweek-pennant-b-division-round-2/
CATEGORIES:Program 2018/2019
END:VEVENT
BEGIN:VEVENT
DTSTART;TZID=Australia/Sydney:20181017T233000
DTEND;TZID=Australia/Sydney:20181017T233000
DTSTAMP:20260426T024333
CREATED:20180824T183626Z
LAST-MODIFIED:20181002T005024Z
UID:6276-1539819000-1539819000@bowls.yarragolf.com.au
SUMMARY:Men's 3 Bowl Pairs
DESCRIPTION:Entry: $8.00. \nFormat: Draw for partners. \nDress: Casual
URL:https://bowls.yarragolf.com.au/event/social-bowls-9/
CATEGORIES:Program 2018/2019,Social Bowls
END:VEVENT
BEGIN:VEVENT
DTSTART;TZID=Australia/Sydney:20181018T203000
DTEND;TZID=Australia/Sydney:20181018T203000
DTSTAMP:20260426T024333
CREATED:20180824T183805Z
LAST-MODIFIED:20181006T130308Z
UID:6278-1539894600-1539894600@bowls.yarragolf.com.au
SUMMARY:BV Men's & Ladies 60 & Over Pairs
DESCRIPTION:Venue: YMGCR & Club Mulwala BC. \nPost Section Play.
URL:https://bowls.yarragolf.com.au/event/bv-mens-ladies-60-over-pairs-at-ymgcr-4/
CATEGORIES:Ovens & Murray State Events,Program 2018/2019
END:VEVENT
BEGIN:VEVENT
DTSTART;TZID=Australia/Sydney:20181019T210000
DTEND;TZID=Australia/Sydney:20181019T210000
DTSTAMP:20260426T024333
CREATED:20180824T183122Z
LAST-MODIFIED:20181006T223305Z
UID:6268-1539982800-1539982800@bowls.yarragolf.com.au
SUMMARY:Ladies 21 Up Final
DESCRIPTION:Dress: Club uniform.
URL:https://bowls.yarragolf.com.au/event/ladies-21-up-final/
CATEGORIES:Club Events,Program 2018/2019
END:VEVENT
BEGIN:VEVENT
DTSTART;TZID=Australia/Sydney:20181021T000000
DTEND;TZID=Australia/Sydney:20181021T000000
DTSTAMP:20260426T024333
CREATED:20180706T174021Z
LAST-MODIFIED:20180706T183103Z
UID:6151-1540080000-1540080000@bowls.yarragolf.com.au
SUMMARY:Weekend Pennant Round 2
DESCRIPTION:
URL:https://bowls.yarragolf.com.au/event/weekend-pennant-round-2-2/
CATEGORIES:Program 2018/2019
ATTACH;FMTTYPE=image/jpeg:https://bowls.yarragolf.com.au/wp-content/uploads/2018/03/B2-2017.jpg
END:VEVENT
BEGIN:VEVENT
DTSTART;TZID=Australia/Sydney:20181021T000000
DTEND;TZID=Australia/Sydney:20181020T110000
DTSTAMP:20260426T024333
CREATED:20180903T195529Z
LAST-MODIFIED:20180903T195529Z
UID:6416-1540080000-1540033200@bowls.yarragolf.com.au
SUMMARY:Weekend Pennant B5 Division Round 3
DESCRIPTION:
URL:https://bowls.yarragolf.com.au/event/weekend-pennant-b5-division-round-3/
CATEGORIES:Program 2018/2019
END:VEVENT
BEGIN:VEVENT
DTSTART;TZID=Australia/Sydney:20181021T203000
DTEND;TZID=Australia/Sydney:20181021T203000
DTSTAMP:20260426T024333
CREATED:20180828T191515Z
LAST-MODIFIED:20180904T121808Z
UID:6371-1540153800-1540153800@bowls.yarragolf.com.au
SUMMARY:BV Men's & Ladies Triples
DESCRIPTION:Entries close 12th October\, \nVenue: Corowa Civic BC. \nSection Play. \nPost Section Play 28th October.
URL:https://bowls.yarragolf.com.au/event/bv-mens-ladies-triples/
CATEGORIES:Ovens & Murray State Events,Program 2018/2019
END:VEVENT
BEGIN:VEVENT
DTSTART;TZID=Australia/Sydney:20181023T210000
DTEND;TZID=Australia/Sydney:20181023T110000
DTSTAMP:20260426T024333
CREATED:20180706T174217Z
LAST-MODIFIED:20180706T174217Z
UID:6153-1540328400-1540292400@bowls.yarragolf.com.au
SUMMARY:Midweek Pennant Round 2
DESCRIPTION:
URL:https://bowls.yarragolf.com.au/event/midweek-pennant-round-2-2/
CATEGORIES:Program 2018/2019
END:VEVENT
BEGIN:VEVENT
DTSTART;TZID=Australia/Sydney:20181023T210000
DTEND;TZID=Australia/Sydney:20181023T110000
DTSTAMP:20260426T024333
CREATED:20180824T183925Z
LAST-MODIFIED:20180824T183925Z
UID:6280-1540328400-1540292400@bowls.yarragolf.com.au
SUMMARY:Midweek Pennant B Division Round 3
DESCRIPTION:
URL:https://bowls.yarragolf.com.au/event/midweek-pennant-b-division-round-3/
CATEGORIES:Program 2018/2019
END:VEVENT
BEGIN:VEVENT
DTSTART;TZID=Australia/Sydney:20181024T233000
DTEND;TZID=Australia/Sydney:20181024T110000
DTSTAMP:20260426T024333
CREATED:20181016T180940Z
LAST-MODIFIED:20181016T180940Z
UID:6625-1540423800-1540378800@bowls.yarragolf.com.au
SUMMARY:Men's 3 Bowl Pairs
DESCRIPTION:Entry: $8.00. \nFormat: Draw for partners. \nDress: Casual.
URL:https://bowls.yarragolf.com.au/event/mens-3-bowl-pairs-2/
CATEGORIES:Program 2018/2019,Social Bowls
END:VEVENT
BEGIN:VEVENT
DTSTART;TZID=Australia/Sydney:20181025T210000
DTEND;TZID=Australia/Sydney:20181025T210000
DTSTAMP:20260426T024333
CREATED:20180824T184101Z
LAST-MODIFIED:20180905T235636Z
UID:6282-1540501200-1540501200@bowls.yarragolf.com.au
SUMMARY:Ladies Club Singles Championship Rounds 1 & 2
DESCRIPTION:Entries close Tuesday 23rd October at 3:00 pm. \nEntry: $8.00. \nDress: Club uniform.
URL:https://bowls.yarragolf.com.au/event/ladies-singles-championship-rounds-1-2/
CATEGORIES:Club Events,Program 2018/2019
END:VEVENT
BEGIN:VEVENT
DTSTART;TZID=Australia/Sydney:20181028T000000
DTEND;TZID=Australia/Sydney:20181027T110000
DTSTAMP:20260426T024333
CREATED:20180706T174321Z
LAST-MODIFIED:20180706T174321Z
UID:6155-1540684800-1540638000@bowls.yarragolf.com.au
SUMMARY:Weekend Pennant Round 3
DESCRIPTION:
URL:https://bowls.yarragolf.com.au/event/weekend-pennant-round-3-2/
CATEGORIES:Program 2018/2019
END:VEVENT
BEGIN:VEVENT
DTSTART;TZID=Australia/Sydney:20181028T000000
DTEND;TZID=Australia/Sydney:20181027T110000
DTSTAMP:20260426T024333
CREATED:20180903T195659Z
LAST-MODIFIED:20180903T195659Z
UID:6418-1540684800-1540638000@bowls.yarragolf.com.au
SUMMARY:Weekend Pennant B5 Division Round 4
DESCRIPTION:
URL:https://bowls.yarragolf.com.au/event/weekend-pennant-b5-division-round-4/
CATEGORIES:Program 2018/2019
END:VEVENT
BEGIN:VEVENT
DTSTART;TZID=Australia/Sydney:20181028T210000
DTEND;TZID=Australia/Sydney:20181028T110000
DTSTAMP:20260426T024333
CREATED:20180903T193802Z
LAST-MODIFIED:20180903T193802Z
UID:6400-1540760400-1540724400@bowls.yarragolf.com.au
SUMMARY:Men's Club Singles Championship
DESCRIPTION:Nominations close 26th October. \nEntry: $8.00. \nDress: Club uniform.
URL:https://bowls.yarragolf.com.au/event/mens-club-singles-championship/
CATEGORIES:Club Events,Program 2018/2019
END:VEVENT
END:VCALENDAR