BEGIN:VCALENDAR
VERSION:2.0
PRODID:-//Yarrawonga - ECPv6.15.20//NONSGML v1.0//EN
CALSCALE:GREGORIAN
METHOD:PUBLISH
X-WR-CALNAME:Yarrawonga
X-ORIGINAL-URL:https://bowls.yarragolf.com.au
X-WR-CALDESC:Events for Yarrawonga
REFRESH-INTERVAL;VALUE=DURATION:PT1H
X-Robots-Tag:noindex
X-PUBLISHED-TTL:PT1H
BEGIN:VTIMEZONE
TZID:Australia/Sydney
BEGIN:STANDARD
TZOFFSETFROM:+1100
TZOFFSETTO:+1000
TZNAME:AEST
DTSTART:20180331T160000
END:STANDARD
BEGIN:DAYLIGHT
TZOFFSETFROM:+1000
TZOFFSETTO:+1100
TZNAME:AEDT
DTSTART:20181006T160000
END:DAYLIGHT
BEGIN:STANDARD
TZOFFSETFROM:+1100
TZOFFSETTO:+1000
TZNAME:AEST
DTSTART:20190406T160000
END:STANDARD
BEGIN:DAYLIGHT
TZOFFSETFROM:+1000
TZOFFSETTO:+1100
TZNAME:AEDT
DTSTART:20191005T160000
END:DAYLIGHT
BEGIN:STANDARD
TZOFFSETFROM:+1100
TZOFFSETTO:+1000
TZNAME:AEST
DTSTART:20200404T160000
END:STANDARD
BEGIN:DAYLIGHT
TZOFFSETFROM:+1000
TZOFFSETTO:+1100
TZNAME:AEDT
DTSTART:20201003T160000
END:DAYLIGHT
END:VTIMEZONE
BEGIN:VEVENT
DTSTART;TZID=Australia/Sydney:20190703T223000
DTEND;TZID=Australia/Sydney:20190703T223000
DTSTAMP:20260425T132138
CREATED:20190515T140404Z
LAST-MODIFIED:20190729T180145Z
UID:7148-1562193000-1562193000@bowls.yarragolf.com.au
SUMMARY:Open Social Bowls
DESCRIPTION:Entry: $8.00. \nDress: Casual.
URL:https://bowls.yarragolf.com.au/event/open-social-bowls-35/
CATEGORIES:Program 2018/2019,Social Bowls
END:VEVENT
BEGIN:VEVENT
DTSTART;TZID=Australia/Sydney:20190707T223000
DTEND;TZID=Australia/Sydney:20190707T223000
DTSTAMP:20260425T132138
CREATED:20190515T142903Z
LAST-MODIFIED:20190729T180046Z
UID:7176-1562538600-1562538600@bowls.yarragolf.com.au
SUMMARY:Open Social Bowls
DESCRIPTION:Entry: $8.00. \nDress: Casual.
URL:https://bowls.yarragolf.com.au/event/open-nominated-pairs-7/
CATEGORIES:Program 2018/2019,Social Bowls
END:VEVENT
BEGIN:VEVENT
DTSTART;TZID=Australia/Sydney:20190710T223000
DTEND;TZID=Australia/Sydney:20190710T223000
DTSTAMP:20260425T132138
CREATED:20190515T140604Z
LAST-MODIFIED:20190729T180000Z
UID:7150-1562797800-1562797800@bowls.yarragolf.com.au
SUMMARY:Open Social Bowls
DESCRIPTION:Entry: $8.00. \nDress: Casual.
URL:https://bowls.yarragolf.com.au/event/open-social-bowls-36/
CATEGORIES:Program 2018/2019,Social Bowls
END:VEVENT
BEGIN:VEVENT
DTSTART;TZID=Australia/Sydney:20190714T223000
DTEND;TZID=Australia/Sydney:20190714T223000
DTSTAMP:20260425T132138
CREATED:20190515T143018Z
LAST-MODIFIED:20190729T175736Z
UID:7178-1563143400-1563143400@bowls.yarragolf.com.au
SUMMARY:Open Social Bowls
DESCRIPTION:Entry: $8.00. \nDress: Casual.
URL:https://bowls.yarragolf.com.au/event/open-nominated-pairs-8/
CATEGORIES:Program 2018/2019,Social Bowls
END:VEVENT
BEGIN:VEVENT
DTSTART;TZID=Australia/Sydney:20190717T223000
DTEND;TZID=Australia/Sydney:20190717T223000
DTSTAMP:20260425T132138
CREATED:20190515T140715Z
LAST-MODIFIED:20190729T175053Z
UID:7152-1563402600-1563402600@bowls.yarragolf.com.au
SUMMARY:Open Social Bowls
DESCRIPTION:Entry: $8.00. \nDress: Casual.
URL:https://bowls.yarragolf.com.au/event/open-social-bowls-37/
CATEGORIES:Program 2018/2019,Social Bowls
END:VEVENT
BEGIN:VEVENT
DTSTART;TZID=Australia/Sydney:20190721T223000
DTEND;TZID=Australia/Sydney:20190721T223000
DTSTAMP:20260425T132138
CREATED:20190515T143129Z
LAST-MODIFIED:20190729T175013Z
UID:7180-1563748200-1563748200@bowls.yarragolf.com.au
SUMMARY:Open Social Bowls
DESCRIPTION:Entry: $8.00. \nDress: Casual.
URL:https://bowls.yarragolf.com.au/event/open-nominated-pairs-9/
CATEGORIES:Program 2018/2019,Social Bowls
END:VEVENT
BEGIN:VEVENT
DTSTART;TZID=Australia/Sydney:20190724T223000
DTEND;TZID=Australia/Sydney:20190724T223000
DTSTAMP:20260425T132138
CREATED:20190515T140824Z
LAST-MODIFIED:20190729T174938Z
UID:7154-1564007400-1564007400@bowls.yarragolf.com.au
SUMMARY:Open Social Bowls
DESCRIPTION:Entry: $8.00. \nDress: Casual.
URL:https://bowls.yarragolf.com.au/event/open-social-bowls-38/
CATEGORIES:Program 2018/2019,Social Bowls
END:VEVENT
BEGIN:VEVENT
DTSTART;TZID=Australia/Sydney:20190728T223000
DTEND;TZID=Australia/Sydney:20190728T223000
DTSTAMP:20260425T132138
CREATED:20190515T143243Z
LAST-MODIFIED:20190729T174847Z
UID:7182-1564353000-1564353000@bowls.yarragolf.com.au
SUMMARY:Open Social Bowls
DESCRIPTION:Entry: $8.00. \nDress: Casual.
URL:https://bowls.yarragolf.com.au/event/open-nominated-pairs-10/
CATEGORIES:Program 2018/2019,Social Bowls
END:VEVENT
BEGIN:VEVENT
DTSTART;TZID=Australia/Sydney:20190731T223000
DTEND;TZID=Australia/Sydney:20190731T223000
DTSTAMP:20260425T132138
CREATED:20190515T140931Z
LAST-MODIFIED:20190729T174809Z
UID:7156-1564612200-1564612200@bowls.yarragolf.com.au
SUMMARY:Open Social Bowls
DESCRIPTION:Entry: $8.00. \nDress: Casual.
URL:https://bowls.yarragolf.com.au/event/open-social-bowls-39/
CATEGORIES:Program 2018/2019,Social Bowls
END:VEVENT
END:VCALENDAR