BEGIN:VCALENDAR
VERSION:2.0
PRODID:-//Yarrawonga - ECPv6.15.20//NONSGML v1.0//EN
CALSCALE:GREGORIAN
METHOD:PUBLISH
X-ORIGINAL-URL:https://bowls.yarragolf.com.au
X-WR-CALDESC:Events for Yarrawonga
REFRESH-INTERVAL;VALUE=DURATION:PT1H
X-Robots-Tag:noindex
X-PUBLISHED-TTL:PT1H
BEGIN:VTIMEZONE
TZID:Australia/Sydney
BEGIN:STANDARD
TZOFFSETFROM:+1100
TZOFFSETTO:+1000
TZNAME:AEST
DTSTART:20180331T160000
END:STANDARD
BEGIN:DAYLIGHT
TZOFFSETFROM:+1000
TZOFFSETTO:+1100
TZNAME:AEDT
DTSTART:20181006T160000
END:DAYLIGHT
BEGIN:STANDARD
TZOFFSETFROM:+1100
TZOFFSETTO:+1000
TZNAME:AEST
DTSTART:20190406T160000
END:STANDARD
BEGIN:DAYLIGHT
TZOFFSETFROM:+1000
TZOFFSETTO:+1100
TZNAME:AEDT
DTSTART:20191005T160000
END:DAYLIGHT
BEGIN:STANDARD
TZOFFSETFROM:+1100
TZOFFSETTO:+1000
TZNAME:AEST
DTSTART:20200404T160000
END:STANDARD
BEGIN:DAYLIGHT
TZOFFSETFROM:+1000
TZOFFSETTO:+1100
TZNAME:AEDT
DTSTART:20201003T160000
END:DAYLIGHT
END:VTIMEZONE
BEGIN:VEVENT
DTSTART;TZID=Australia/Sydney:20190804T223000
DTEND;TZID=Australia/Sydney:20190804T223000
DTSTAMP:20260425T115553
CREATED:20190515T143401Z
LAST-MODIFIED:20190729T174713Z
UID:7184-1564957800-1564957800@bowls.yarragolf.com.au
SUMMARY:Open Social Bowls
DESCRIPTION:Entry: $8.00. \nDress: Casual.
URL:https://bowls.yarragolf.com.au/event/open-nominated-pairs-11/
CATEGORIES:Program 2018/2019,Social Bowls
END:VEVENT
BEGIN:VEVENT
DTSTART;TZID=Australia/Sydney:20190807T223000
DTEND;TZID=Australia/Sydney:20190807T223000
DTSTAMP:20260425T115553
CREATED:20190515T141057Z
LAST-MODIFIED:20190729T174622Z
UID:7158-1565217000-1565217000@bowls.yarragolf.com.au
SUMMARY:Open Social Bowls
DESCRIPTION:Entry: $8.00. \nDress: Casual.
URL:https://bowls.yarragolf.com.au/event/open-social-bowls-40/
CATEGORIES:Program 2018/2019,Social Bowls
END:VEVENT
BEGIN:VEVENT
DTSTART;TZID=Australia/Sydney:20190811T223000
DTEND;TZID=Australia/Sydney:20190811T223000
DTSTAMP:20260425T115553
CREATED:20190515T143511Z
LAST-MODIFIED:20190729T174532Z
UID:7186-1565562600-1565562600@bowls.yarragolf.com.au
SUMMARY:Open Social Bowls
DESCRIPTION:Entry: $8.00. \nDress: Casual.
URL:https://bowls.yarragolf.com.au/event/open-nominated-pairs-12/
CATEGORIES:Program 2018/2019,Social Bowls
END:VEVENT
BEGIN:VEVENT
DTSTART;TZID=Australia/Sydney:20190814T223000
DTEND;TZID=Australia/Sydney:20190814T223000
DTSTAMP:20260425T115553
CREATED:20190515T141208Z
LAST-MODIFIED:20190729T174450Z
UID:7160-1565821800-1565821800@bowls.yarragolf.com.au
SUMMARY:Open Social Bowls
DESCRIPTION:Entry: $8.00. \nDress: Casual.
URL:https://bowls.yarragolf.com.au/event/open-social-bowls-41/
CATEGORIES:Program 2018/2019,Social Bowls
END:VEVENT
BEGIN:VEVENT
DTSTART;TZID=Australia/Sydney:20190818T223000
DTEND;TZID=Australia/Sydney:20190818T223000
DTSTAMP:20260425T115553
CREATED:20190515T143615Z
LAST-MODIFIED:20190729T174343Z
UID:7188-1566167400-1566167400@bowls.yarragolf.com.au
SUMMARY:Open Social Bowls
DESCRIPTION:Entry: $8.00. \nDress: Casual.
URL:https://bowls.yarragolf.com.au/event/open-nominated-pairs-13/
CATEGORIES:Program 2018/2019,Social Bowls
END:VEVENT
BEGIN:VEVENT
DTSTART;TZID=Australia/Sydney:20190821T223000
DTEND;TZID=Australia/Sydney:20190821T223000
DTSTAMP:20260425T115553
CREATED:20190515T141427Z
LAST-MODIFIED:20190729T174244Z
UID:7164-1566426600-1566426600@bowls.yarragolf.com.au
SUMMARY:Open Social Bowls
DESCRIPTION:Entry: $8.00. \nDress: Casual.
URL:https://bowls.yarragolf.com.au/event/open-social-bowls-43/
CATEGORIES:Program 2018/2019,Social Bowls
END:VEVENT
BEGIN:VEVENT
DTSTART;VALUE=DATE:20190824
DTEND;VALUE=DATE:20190827
DTSTAMP:20260425T115553
CREATED:20190617T194549Z
LAST-MODIFIED:20190617T194549Z
UID:7228-1566640800-1566813599@bowls.yarragolf.com.au
SUMMARY:Joy Johnson Memorial Classic
DESCRIPTION:Ladies 2 Bowl Triples Tournament. \nFor more information contact Anne Miles 0427 732 258.
URL:https://bowls.yarragolf.com.au/event/joy-johnson-memorial-classic/
CATEGORIES:Program 2019/2020,Tournaments
ATTACH;FMTTYPE=image/jpeg:https://bowls.yarragolf.com.au/wp-content/uploads/2014/09/gallery2.jpg
END:VEVENT
BEGIN:VEVENT
DTSTART;TZID=Australia/Sydney:20190828T223000
DTEND;TZID=Australia/Sydney:20190828T223000
DTSTAMP:20260425T115553
CREATED:20190515T141537Z
LAST-MODIFIED:20190729T174142Z
UID:7166-1567031400-1567031400@bowls.yarragolf.com.au
SUMMARY:Open Social Bowls
DESCRIPTION:Entry: $8.00. \nDress: Casual.
URL:https://bowls.yarragolf.com.au/event/open-social-bowls-44/
CATEGORIES:Program 2018/2019,Social Bowls
END:VEVENT
END:VCALENDAR