BEGIN:VCALENDAR
VERSION:2.0
PRODID:-//Yarrawonga - ECPv6.15.20//NONSGML v1.0//EN
CALSCALE:GREGORIAN
METHOD:PUBLISH
X-WR-CALNAME:Yarrawonga
X-ORIGINAL-URL:https://bowls.yarragolf.com.au
X-WR-CALDESC:Events for Yarrawonga
REFRESH-INTERVAL;VALUE=DURATION:PT1H
X-Robots-Tag:noindex
X-PUBLISHED-TTL:PT1H
BEGIN:VTIMEZONE
TZID:Australia/Sydney
BEGIN:STANDARD
TZOFFSETFROM:+1100
TZOFFSETTO:+1000
TZNAME:AEST
DTSTART:20180331T160000
END:STANDARD
BEGIN:DAYLIGHT
TZOFFSETFROM:+1000
TZOFFSETTO:+1100
TZNAME:AEDT
DTSTART:20181006T160000
END:DAYLIGHT
BEGIN:STANDARD
TZOFFSETFROM:+1100
TZOFFSETTO:+1000
TZNAME:AEST
DTSTART:20190406T160000
END:STANDARD
BEGIN:DAYLIGHT
TZOFFSETFROM:+1000
TZOFFSETTO:+1100
TZNAME:AEDT
DTSTART:20191005T160000
END:DAYLIGHT
BEGIN:STANDARD
TZOFFSETFROM:+1100
TZOFFSETTO:+1000
TZNAME:AEST
DTSTART:20200404T160000
END:STANDARD
BEGIN:DAYLIGHT
TZOFFSETFROM:+1000
TZOFFSETTO:+1100
TZNAME:AEDT
DTSTART:20201003T160000
END:DAYLIGHT
END:VTIMEZONE
BEGIN:VEVENT
DTSTART;TZID=Australia/Sydney:20191103T000000
DTEND;TZID=Australia/Sydney:20191103T000000
DTSTAMP:20260425T071144
CREATED:20190714T145104Z
LAST-MODIFIED:20190714T145104Z
UID:7283-1572739200-1572739200@bowls.yarragolf.com.au
SUMMARY:Weekend Pennant Round 4
DESCRIPTION:
URL:https://bowls.yarragolf.com.au/event/weekend-pennant-round-4-3/
CATEGORIES:Program 2019/2020
END:VEVENT
BEGIN:VEVENT
DTSTART;TZID=Australia/Sydney:20191103T203000
DTEND;TZID=Australia/Sydney:20191103T203000
DTSTAMP:20260425T071144
CREATED:20190714T145211Z
LAST-MODIFIED:20190717T172402Z
UID:7285-1572813000-1572813000@bowls.yarragolf.com.au
SUMMARY:BV State Triples Men & Women Further Knockout Rounds
DESCRIPTION:Venue: Wangaratta BC.
URL:https://bowls.yarragolf.com.au/event/bv-state-triples-further-knockout-rounds/
CATEGORIES:Ovens & Murray State Events,Program 2019/2020
END:VEVENT
BEGIN:VEVENT
DTSTART;TZID=Australia/Sydney:20191103T210000
DTEND;TZID=Australia/Sydney:20191103T110000
DTSTAMP:20260425T071144
CREATED:20191018T155720Z
LAST-MODIFIED:20191018T155720Z
UID:7704-1572814800-1572778800@bowls.yarragolf.com.au
SUMMARY:Men's Singles Championship
DESCRIPTION:Entry: $8.00. \nDress: Club uniform.
URL:https://bowls.yarragolf.com.au/event/mens-singles-championship/
CATEGORIES:Club Events,Program 2019/2020
END:VEVENT
BEGIN:VEVENT
DTSTART;TZID=Australia/Sydney:20191106T210000
DTEND;TZID=Australia/Sydney:20191106T210000
DTSTAMP:20260425T071144
CREATED:20190714T145251Z
LAST-MODIFIED:20190714T145251Z
UID:7288-1573074000-1573074000@bowls.yarragolf.com.au
SUMMARY:Midweek Pennant Round 4
DESCRIPTION:
URL:https://bowls.yarragolf.com.au/event/midweek-pennant-round-4-3/
CATEGORIES:Program 2019/2020
END:VEVENT
BEGIN:VEVENT
DTSTART;TZID=Australia/Sydney:20191107T210000
DTEND;TZID=Australia/Sydney:20191107T210000
DTSTAMP:20260425T071144
CREATED:20191018T155943Z
LAST-MODIFIED:20191027T110335Z
UID:7706-1573160400-1573160400@bowls.yarragolf.com.au
SUMMARY:Bloke's Day Triples
DESCRIPTION:Entries to Kerry Kinnane 0419 313 683 or Rob Lidgerwood 0427 500 263. \nBBQ lunch provided.
URL:https://bowls.yarragolf.com.au/event/blokes-day-social-bowls/
CATEGORIES:Program 2019/2020,Tournaments
ATTACH;FMTTYPE=image/jpeg:https://bowls.yarragolf.com.au/wp-content/uploads/2019/10/Bloke’s-Day-Triples-on-Oaks-Day.jpg
END:VEVENT
BEGIN:VEVENT
DTSTART;TZID=Australia/Sydney:20191110T000000
DTEND;TZID=Australia/Sydney:20191110T000000
DTSTAMP:20260425T071144
CREATED:20190714T150801Z
LAST-MODIFIED:20190714T150801Z
UID:7290-1573344000-1573344000@bowls.yarragolf.com.au
SUMMARY:Weekend Pennant Round 5
DESCRIPTION:
URL:https://bowls.yarragolf.com.au/event/weekend-pennant-round-5-3/
CATEGORIES:Program 2019/2020
END:VEVENT
BEGIN:VEVENT
DTSTART;TZID=Australia/Sydney:20191110T203000
DTEND;TZID=Australia/Sydney:20191110T203000
DTSTAMP:20260425T071144
CREATED:20190714T150905Z
LAST-MODIFIED:20190714T150905Z
UID:7292-1573417800-1573417800@bowls.yarragolf.com.au
SUMMARY:BV State Singles Men & Women Rounds 1 & 2
DESCRIPTION:Entries close Friday\, 1st November 2019. \nVenues: Wodonga BC for Men.  Benalla BC for Women.
URL:https://bowls.yarragolf.com.au/event/bv-state-singles-men-women-rounds-1-2/
CATEGORIES:Ovens & Murray State Events,Program 2019/2020
END:VEVENT
BEGIN:VEVENT
DTSTART;TZID=Australia/Sydney:20191112T210000
DTEND;TZID=Australia/Sydney:20191112T210000
DTSTAMP:20260425T071144
CREATED:20190714T150941Z
LAST-MODIFIED:20190714T150941Z
UID:7295-1573592400-1573592400@bowls.yarragolf.com.au
SUMMARY:Midweek Pennant Round 5
DESCRIPTION:
URL:https://bowls.yarragolf.com.au/event/midweek-pennant-round-5-3/
CATEGORIES:Program 2019/2020
END:VEVENT
BEGIN:VEVENT
DTSTART;TZID=Australia/Sydney:20191113T210000
DTEND;TZID=Australia/Sydney:20191113T210000
DTSTAMP:20260425T071144
CREATED:20191018T160109Z
LAST-MODIFIED:20191111T171753Z
UID:7708-1573678800-1573678800@bowls.yarragolf.com.au
SUMMARY:Men's 2 Bowl Triples
DESCRIPTION:
URL:https://bowls.yarragolf.com.au/event/mens-2-bowl-triples-17/
CATEGORIES:Program 2019/2020,Tournaments
ATTACH;FMTTYPE=image/jpeg:https://bowls.yarragolf.com.au/wp-content/uploads/2017/03/final_635_1_772-cancelled-stamp-1013tm-mix.jpg
END:VEVENT
BEGIN:VEVENT
DTSTART;TZID=Australia/Sydney:20191113T233000
DTEND;TZID=Australia/Sydney:20191113T110000
DTSTAMP:20260425T071144
CREATED:20191111T171928Z
LAST-MODIFIED:20191111T171928Z
UID:7918-1573687800-1573642800@bowls.yarragolf.com.au
SUMMARY:Men's Social Bowls
DESCRIPTION:Entry: $8.00. \nDress: Casual.
URL:https://bowls.yarragolf.com.au/event/mens-social-bowls-55/
CATEGORIES:Program 2019/2020,Social Bowls
END:VEVENT
BEGIN:VEVENT
DTSTART;TZID=Australia/Sydney:20191114T210000
DTEND;TZID=Australia/Sydney:20191114T110000
DTSTAMP:20260425T071144
CREATED:20191018T160234Z
LAST-MODIFIED:20191018T160234Z
UID:7710-1573765200-1573729200@bowls.yarragolf.com.au
SUMMARY:Ladies Social Bowls
DESCRIPTION:Entry: $8.00. \nDress: Casual.
URL:https://bowls.yarragolf.com.au/event/ladies-social-bowls-55/
CATEGORIES:Program 2019/2020,Social Bowls
END:VEVENT
BEGIN:VEVENT
DTSTART;VALUE=DATE:20191115
DTEND;VALUE=DATE:20191124
DTSTAMP:20260425T071144
CREATED:20190714T151110Z
LAST-MODIFIED:20190714T151110Z
UID:7297-1573815600-1574506799@bowls.yarragolf.com.au
SUMMARY:Victorian Open
DESCRIPTION:Entries close Wednesday\, 16th October 2019. \nVenues: Shepparton Region.
URL:https://bowls.yarragolf.com.au/event/victorian-open/
CATEGORIES:Ovens & Murray State Events,Program 2019/2020
END:VEVENT
BEGIN:VEVENT
DTSTART;TZID=Australia/Sydney:20191117T233000
DTEND;TZID=Australia/Sydney:20191117T110000
DTSTAMP:20260425T071144
CREATED:20191018T160407Z
LAST-MODIFIED:20191018T160407Z
UID:7712-1574033400-1573988400@bowls.yarragolf.com.au
SUMMARY:Open Social Bowls
DESCRIPTION:Entry: $8.00. \nDress: Casual.
URL:https://bowls.yarragolf.com.au/event/open-social-bowls-45/
CATEGORIES:Program 2019/2020,Social Bowls
END:VEVENT
BEGIN:VEVENT
DTSTART;TZID=Australia/Sydney:20191119T210000
DTEND;TZID=Australia/Sydney:20191119T110000
DTSTAMP:20260425T071144
CREATED:20191116T115041Z
LAST-MODIFIED:20191116T115041Z
UID:7921-1574197200-1574161200@bowls.yarragolf.com.au
SUMMARY:Ladies Social Bowls
DESCRIPTION:Entry: $8.00. \nDress: Casual.
URL:https://bowls.yarragolf.com.au/event/ladies-social-bowls-78/
CATEGORIES:Program 2019/2020,Social Bowls
END:VEVENT
BEGIN:VEVENT
DTSTART;TZID=Australia/Sydney:20191120T233000
DTEND;TZID=Australia/Sydney:20191120T110000
DTSTAMP:20260425T071144
CREATED:20191018T160519Z
LAST-MODIFIED:20191018T160519Z
UID:7714-1574292600-1574247600@bowls.yarragolf.com.au
SUMMARY:Men's Social Bowls
DESCRIPTION:Entry: $8.00. \nDress: Casual.
URL:https://bowls.yarragolf.com.au/event/mens-social-bowls-40/
CATEGORIES:Program 2019/2020,Social Bowls
END:VEVENT
BEGIN:VEVENT
DTSTART;TZID=Australia/Sydney:20191121T210000
DTEND;TZID=Australia/Sydney:20191121T110000
DTSTAMP:20260425T071144
CREATED:20191116T115219Z
LAST-MODIFIED:20191116T115219Z
UID:7923-1574370000-1574334000@bowls.yarragolf.com.au
SUMMARY:Ladies Social Bowls
DESCRIPTION:Entry: $8.00. \nDress: Casual.
URL:https://bowls.yarragolf.com.au/event/ladies-social-bowls-79/
CATEGORIES:Program 2019/2020,Social Bowls
END:VEVENT
BEGIN:VEVENT
DTSTART;TZID=Australia/Sydney:20191124T000000
DTEND;TZID=Australia/Sydney:20191124T000000
DTSTAMP:20260425T071144
CREATED:20190714T151146Z
LAST-MODIFIED:20190714T151146Z
UID:7299-1574553600-1574553600@bowls.yarragolf.com.au
SUMMARY:Weekend Pennant Round 6
DESCRIPTION:
URL:https://bowls.yarragolf.com.au/event/weekend-pennant-round-6-3/
CATEGORIES:Program 2019/2020
END:VEVENT
BEGIN:VEVENT
DTSTART;TZID=Australia/Sydney:20191124T203000
DTEND;TZID=Australia/Sydney:20191124T203000
DTSTAMP:20260425T071144
CREATED:20190714T151458Z
LAST-MODIFIED:20190714T151458Z
UID:7301-1574627400-1574627400@bowls.yarragolf.com.au
SUMMARY:BV State Singles Men & Women Rounds 3 & 4
DESCRIPTION:Venues: Wodonga BC for Men.  Benalla BC for Women.
URL:https://bowls.yarragolf.com.au/event/bv-state-singles-men-women-rounds-3-4/
CATEGORIES:Ovens & Murray State Events,Program 2019/2020
END:VEVENT
BEGIN:VEVENT
DTSTART;TZID=Australia/Sydney:20191126T210000
DTEND;TZID=Australia/Sydney:20191126T210000
DTSTAMP:20260425T071144
CREATED:20190714T151526Z
LAST-MODIFIED:20190714T151526Z
UID:7303-1574802000-1574802000@bowls.yarragolf.com.au
SUMMARY:Midweek Pennant Round 6
DESCRIPTION:
URL:https://bowls.yarragolf.com.au/event/midweek-pennant-round-6-3/
CATEGORIES:Program 2019/2020
END:VEVENT
BEGIN:VEVENT
DTSTART;TZID=Australia/Sydney:20191127T233000
DTEND;TZID=Australia/Sydney:20191127T233000
DTSTAMP:20260425T071144
CREATED:20191018T160752Z
LAST-MODIFIED:20191118T095020Z
UID:7718-1574897400-1574897400@bowls.yarragolf.com.au
SUMMARY:Men's Social Bowls
DESCRIPTION:Entry: $8.00. \nDress: Casual.
URL:https://bowls.yarragolf.com.au/event/men-s-social-bowls/
CATEGORIES:Program 2019/2020,Social Bowls
END:VEVENT
BEGIN:VEVENT
DTSTART;TZID=Australia/Sydney:20191128T210000
DTEND;TZID=Australia/Sydney:20191128T110000
DTSTAMP:20260425T071144
CREATED:20191018T160858Z
LAST-MODIFIED:20191018T160858Z
UID:7720-1574974800-1574938800@bowls.yarragolf.com.au
SUMMARY:Ladies Social Bowls
DESCRIPTION:Entry: $8.00. \nDress: Casual.
URL:https://bowls.yarragolf.com.au/event/ladies-social-bowls-56/
CATEGORIES:Program 2019/2020,Social Bowls
END:VEVENT
END:VCALENDAR