BEGIN:VCALENDAR
VERSION:2.0
PRODID:-//Yarrawonga - ECPv6.15.20//NONSGML v1.0//EN
CALSCALE:GREGORIAN
METHOD:PUBLISH
X-WR-CALNAME:Yarrawonga
X-ORIGINAL-URL:https://bowls.yarragolf.com.au
X-WR-CALDESC:Events for Yarrawonga
REFRESH-INTERVAL;VALUE=DURATION:PT1H
X-Robots-Tag:noindex
X-PUBLISHED-TTL:PT1H
BEGIN:VTIMEZONE
TZID:Australia/Sydney
BEGIN:STANDARD
TZOFFSETFROM:+1100
TZOFFSETTO:+1000
TZNAME:AEST
DTSTART:20190406T160000
END:STANDARD
BEGIN:DAYLIGHT
TZOFFSETFROM:+1000
TZOFFSETTO:+1100
TZNAME:AEDT
DTSTART:20191005T160000
END:DAYLIGHT
BEGIN:STANDARD
TZOFFSETFROM:+1100
TZOFFSETTO:+1000
TZNAME:AEST
DTSTART:20200404T160000
END:STANDARD
BEGIN:DAYLIGHT
TZOFFSETFROM:+1000
TZOFFSETTO:+1100
TZNAME:AEDT
DTSTART:20201003T160000
END:DAYLIGHT
BEGIN:STANDARD
TZOFFSETFROM:+1100
TZOFFSETTO:+1000
TZNAME:AEST
DTSTART:20210403T160000
END:STANDARD
BEGIN:DAYLIGHT
TZOFFSETFROM:+1000
TZOFFSETTO:+1100
TZNAME:AEDT
DTSTART:20211002T160000
END:DAYLIGHT
END:VTIMEZONE
BEGIN:VEVENT
DTSTART;TZID=Australia/Sydney:20200301T203000
DTEND;TZID=Australia/Sydney:20200301T110000
DTSTAMP:20260425T040030
CREATED:20200206T170122Z
LAST-MODIFIED:20200206T170122Z
UID:8068-1583094600-1583060400@bowls.yarragolf.com.au
SUMMARY:Mixed Pairs Championship Round 2
DESCRIPTION:Dress: Club uniform.
URL:https://bowls.yarragolf.com.au/event/mixed-pairs-championship-round-2/
CATEGORIES:Club Events,Program 2019/2020
END:VEVENT
BEGIN:VEVENT
DTSTART;TZID=Australia/Sydney:20200303T210000
DTEND;TZID=Australia/Sydney:20200303T210000
DTSTAMP:20260425T040030
CREATED:20190714T155454Z
LAST-MODIFIED:20190714T155454Z
UID:7369-1583269200-1583269200@bowls.yarragolf.com.au
SUMMARY:Midweek Pennant Grand Finals
DESCRIPTION:
URL:https://bowls.yarragolf.com.au/event/midweek-pennant-grand-finals-3/
CATEGORIES:Program 2019/2020
END:VEVENT
BEGIN:VEVENT
DTSTART;TZID=Australia/Sydney:20200304T233000
DTEND;TZID=Australia/Sydney:20200304T110000
DTSTAMP:20260425T040030
CREATED:20191019T151951Z
LAST-MODIFIED:20191019T151951Z
UID:7780-1583364600-1583319600@bowls.yarragolf.com.au
SUMMARY:Men's Social Bowls
DESCRIPTION:Entry: $8.00. \nDress: Casual.
URL:https://bowls.yarragolf.com.au/event/mens-social-bowls-48/
CATEGORIES:Program 2019/2020,Social Bowls
END:VEVENT
BEGIN:VEVENT
DTSTART;TZID=Australia/Sydney:20200305T210000
DTEND;TZID=Australia/Sydney:20200305T110000
DTSTAMP:20260425T040030
CREATED:20191019T152129Z
LAST-MODIFIED:20191019T152129Z
UID:7782-1583442000-1583406000@bowls.yarragolf.com.au
SUMMARY:Ladies Social Bowls
DESCRIPTION:Entry: $8.00. \nDress: Casual.
URL:https://bowls.yarragolf.com.au/event/ladies-social-bowls-64/
CATEGORIES:Program 2019/2020,Social Bowls
END:VEVENT
BEGIN:VEVENT
DTSTART;TZID=Australia/Sydney:20200310T210000
DTEND;TZID=Australia/Sydney:20200310T110000
DTSTAMP:20260425T040030
CREATED:20191019T152247Z
LAST-MODIFIED:20191019T152247Z
UID:7784-1583874000-1583838000@bowls.yarragolf.com.au
SUMMARY:Ladies Social Bowls
DESCRIPTION:Entry: $8.00. \nDress: Casual.
URL:https://bowls.yarragolf.com.au/event/ladies-social-bowls-65/
CATEGORIES:Program 2019/2020,Social Bowls
END:VEVENT
BEGIN:VEVENT
DTSTART;TZID=Australia/Sydney:20200311T210000
DTEND;TZID=Australia/Sydney:20200311T110000
DTSTAMP:20260425T040030
CREATED:20191019T152342Z
LAST-MODIFIED:20191019T152342Z
UID:7786-1583960400-1583924400@bowls.yarragolf.com.au
SUMMARY:Men's 2 Bowl Triples
DESCRIPTION:
URL:https://bowls.yarragolf.com.au/event/mens-2-bowl-triples-21/
CATEGORIES:Program 2019/2020,Tournaments
END:VEVENT
BEGIN:VEVENT
DTSTART;TZID=Australia/Sydney:20200312T210000
DTEND;TZID=Australia/Sydney:20200312T110000
DTSTAMP:20260425T040030
CREATED:20191019T152445Z
LAST-MODIFIED:20191019T152445Z
UID:7788-1584046800-1584010800@bowls.yarragolf.com.au
SUMMARY:Ladies Social Bowls
DESCRIPTION:Entry: $8.00. \nDress: Casual.
URL:https://bowls.yarragolf.com.au/event/ladies-social-bowls-66/
CATEGORIES:Program 2019/2020,Social Bowls
END:VEVENT
BEGIN:VEVENT
DTSTART;TZID=Australia/Sydney:20200315T233000
DTEND;TZID=Australia/Sydney:20200315T110000
DTSTAMP:20260425T040030
CREATED:20191019T152552Z
LAST-MODIFIED:20191019T152552Z
UID:7790-1584315000-1584270000@bowls.yarragolf.com.au
SUMMARY:Open Social Bowls
DESCRIPTION:Entry: $8.00. \nDress: Casual.
URL:https://bowls.yarragolf.com.au/event/open-social-bowls-46/
CATEGORIES:Program 2019/2020,Social Bowls
END:VEVENT
BEGIN:VEVENT
DTSTART;TZID=Australia/Sydney:20200317T210000
DTEND;TZID=Australia/Sydney:20200317T110000
DTSTAMP:20260425T040030
CREATED:20191019T152658Z
LAST-MODIFIED:20191019T152658Z
UID:7792-1584478800-1584442800@bowls.yarragolf.com.au
SUMMARY:Ladies Social Bowls
DESCRIPTION:Entry: $8.00. \nDress: Casual.
URL:https://bowls.yarragolf.com.au/event/ladies-social-bowls-67/
CATEGORIES:Program 2019/2020,Social Bowls
END:VEVENT
BEGIN:VEVENT
DTSTART;TZID=Australia/Sydney:20200318T233000
DTEND;TZID=Australia/Sydney:20200318T110000
DTSTAMP:20260425T040030
CREATED:20191019T152806Z
LAST-MODIFIED:20191019T152806Z
UID:7794-1584574200-1584529200@bowls.yarragolf.com.au
SUMMARY:Men's Social Bowls
DESCRIPTION:Entry: $8.00. \nDress: Casual.
URL:https://bowls.yarragolf.com.au/event/mens-social-bowls-49/
CATEGORIES:Program 2019/2020,Social Bowls
END:VEVENT
BEGIN:VEVENT
DTSTART;TZID=Australia/Sydney:20200319T210000
DTEND;TZID=Australia/Sydney:20200319T110000
DTSTAMP:20260425T040030
CREATED:20191019T152904Z
LAST-MODIFIED:20191019T152904Z
UID:7796-1584651600-1584615600@bowls.yarragolf.com.au
SUMMARY:Ladies Social Bowls
DESCRIPTION:Entry: $8.00. \nDress: Casual.
URL:https://bowls.yarragolf.com.au/event/ladies-social-bowls-68/
CATEGORIES:Program 2019/2020,Social Bowls
END:VEVENT
BEGIN:VEVENT
DTSTART;TZID=Australia/Sydney:20200322T210000
DTEND;TZID=Australia/Sydney:20200322T110000
DTSTAMP:20260425T040030
CREATED:20191019T153002Z
LAST-MODIFIED:20191019T153002Z
UID:7798-1584910800-1584874800@bowls.yarragolf.com.au
SUMMARY:Final Mixed Pairs Championship
DESCRIPTION:
URL:https://bowls.yarragolf.com.au/event/final-mixed-pairs-championship/
CATEGORIES:Club Events,Program 2019/2020
END:VEVENT
BEGIN:VEVENT
DTSTART;TZID=Australia/Sydney:20200322T230000
DTEND;TZID=Australia/Sydney:20200322T230000
DTSTAMP:20260425T040030
CREATED:20200206T174236Z
LAST-MODIFIED:20200318T164318Z
UID:8074-1584918000-1584918000@bowls.yarragolf.com.au
SUMMARY:Pennant Windup
DESCRIPTION:Refer noticeboard for more details.
URL:https://bowls.yarragolf.com.au/event/pennant-windup/
CATEGORIES:Functions,Program 2019/2020
ATTACH;FMTTYPE=image/jpeg:https://bowls.yarragolf.com.au/wp-content/uploads/2017/03/final_635_1_772-cancelled-stamp-1013tm-mix.jpg
END:VEVENT
BEGIN:VEVENT
DTSTART;TZID=Australia/Sydney:20200330T110000
DTEND;TZID=Australia/Sydney:20200330T110000
DTSTAMP:20260425T040030
CREATED:20200330T122310Z
LAST-MODIFIED:20200330T122310Z
UID:8177-1585566000-1585566000@bowls.yarragolf.com.au
SUMMARY:Bowling Greens Closed
DESCRIPTION:Greens closed indefinitely due to risks associated with Covid-19.
URL:https://bowls.yarragolf.com.au/event/bowling-greens-closed/
CATEGORIES:Program 2019/2020,Social Bowls,Tournaments
END:VEVENT
END:VCALENDAR